BEGIN:VCALENDAR
VERSION:2.0
PRODID:-//Lake Park Friends - ECPv6.15.20//NONSGML v1.0//EN
CALSCALE:GREGORIAN
METHOD:PUBLISH
X-ORIGINAL-URL:https://lakeparkfriends.org
X-WR-CALDESC:Events for Lake Park Friends
REFRESH-INTERVAL;VALUE=DURATION:PT1H
X-Robots-Tag:noindex
X-PUBLISHED-TTL:PT1H
BEGIN:VTIMEZONE
TZID:America/Chicago
BEGIN:DAYLIGHT
TZOFFSETFROM:-0600
TZOFFSETTO:-0500
TZNAME:CDT
DTSTART:20240310T080000
END:DAYLIGHT
BEGIN:STANDARD
TZOFFSETFROM:-0500
TZOFFSETTO:-0600
TZNAME:CST
DTSTART:20241103T070000
END:STANDARD
BEGIN:DAYLIGHT
TZOFFSETFROM:-0600
TZOFFSETTO:-0500
TZNAME:CDT
DTSTART:20250309T080000
END:DAYLIGHT
BEGIN:STANDARD
TZOFFSETFROM:-0500
TZOFFSETTO:-0600
TZNAME:CST
DTSTART:20251102T070000
END:STANDARD
BEGIN:DAYLIGHT
TZOFFSETFROM:-0600
TZOFFSETTO:-0500
TZNAME:CDT
DTSTART:20260308T080000
END:DAYLIGHT
BEGIN:STANDARD
TZOFFSETFROM:-0500
TZOFFSETTO:-0600
TZNAME:CST
DTSTART:20261101T070000
END:STANDARD
END:VTIMEZONE
BEGIN:VEVENT
DTSTART;TZID=America/Chicago:20251108T110000
DTEND;TZID=America/Chicago:20251108T130000
DTSTAMP:20260419T211451
CREATED:20260330T193246Z
LAST-MODIFIED:20260330T193246Z
UID:781-1762599600-1762606800@lakeparkfriends.org
SUMMARY:Duck Watch
DESCRIPTION:Mark your calendar for the Lake Park Birders Duck Watches.  We gather on the lakeshore just north of Bradford Beach at 11 a.m. on the second Saturday of each month from November through March. After spending time observing waterfowl on the lake\, we will caravan to nearby areas for more birding\, depending on current bird reports.  If you have a scope\, be sure to bring it along. Dress for the weather.
URL:https://lakeparkfriends.org/event/duck-watch-13/
LOCATION:North of Bradford Beach\, Milwaukee\, WI\, 53211\, United States
CATEGORIES:Duck Watch
END:VEVENT
END:VCALENDAR