BEGIN:VCALENDAR
VERSION:2.0
PRODID:-//Lake Park Friends - ECPv6.15.20//NONSGML v1.0//EN
CALSCALE:GREGORIAN
METHOD:PUBLISH
X-ORIGINAL-URL:https://lakeparkfriends.org
X-WR-CALDESC:Events for Lake Park Friends
REFRESH-INTERVAL;VALUE=DURATION:PT1H
X-Robots-Tag:noindex
X-PUBLISHED-TTL:PT1H
BEGIN:VTIMEZONE
TZID:America/Chicago
BEGIN:DAYLIGHT
TZOFFSETFROM:-0600
TZOFFSETTO:-0500
TZNAME:CDT
DTSTART:20240310T080000
END:DAYLIGHT
BEGIN:STANDARD
TZOFFSETFROM:-0500
TZOFFSETTO:-0600
TZNAME:CST
DTSTART:20241103T070000
END:STANDARD
BEGIN:DAYLIGHT
TZOFFSETFROM:-0600
TZOFFSETTO:-0500
TZNAME:CDT
DTSTART:20250309T080000
END:DAYLIGHT
BEGIN:STANDARD
TZOFFSETFROM:-0500
TZOFFSETTO:-0600
TZNAME:CST
DTSTART:20251102T070000
END:STANDARD
BEGIN:DAYLIGHT
TZOFFSETFROM:-0600
TZOFFSETTO:-0500
TZNAME:CDT
DTSTART:20260308T080000
END:DAYLIGHT
BEGIN:STANDARD
TZOFFSETFROM:-0500
TZOFFSETTO:-0600
TZNAME:CST
DTSTART:20261101T070000
END:STANDARD
END:VTIMEZONE
BEGIN:VEVENT
DTSTART;TZID=America/Chicago:20250808T203000
DTEND;TZID=America/Chicago:20250808T220000
DTSTAMP:20260420T194934
CREATED:20260330T193830Z
LAST-MODIFIED:20260330T193830Z
UID:890-1754685000-1754690400@lakeparkfriends.org
SUMMARY:Free Friday Night Flicks – Airplane!
DESCRIPTION:2025 is the year of cult films. These are movies that fans are endlessly passionate about and want to see as often as possible. We’re adding a bonus film this summer.  1980 Airplane! has always been a favorite laughfest\, particularly in Milwaukee\, because it was written and directed by native son Jim Abrahams and brothers David and Jerry Zucker. Surely\, you don’t want to miss this one. Rated PG. \nBring lawn chairs\, blankets\, drinks and snacks. Popcorn will be provided. Admission free. Movie begins at dusk.
URL:https://lakeparkfriends.org/event/free-friday-night-flicks-airplane/
LOCATION:Lake Park Summer Stage\, 2975 N Lake Park Rd\, Milwaukee\, WI\, 53211\, United States
CATEGORIES:Free Friday Night Flicks
END:VEVENT
BEGIN:VEVENT
DTSTART;TZID=America/Chicago:20250829T200000
DTEND;TZID=America/Chicago:20250829T213000
DTSTAMP:20260420T194934
CREATED:20260330T193843Z
LAST-MODIFIED:20260330T193843Z
UID:893-1756497600-1756503000@lakeparkfriends.org
SUMMARY:Free Friday Night Flicks – The Princess Bride
DESCRIPTION:2025 is the year of cult films. These are movies that fans are endlessly passionate about and want to see as often as possible. The Princess Bride is Rob Reiner’s 1987 film about pirates\, revenge\, love and rodents of unusual size. The movie has launched a thousand quotes and has earned a place on countless favorite movie lists. Rated PG. \nBring lawn chairs\, blankets\, drinks and snacks. Popcorn will be provided. Admission free. Movie begins at dusk.
URL:https://lakeparkfriends.org/event/free-friday-night-flicks-the-princess-bride/
LOCATION:Lake Park Summer Stage\, 2975 N Lake Park Rd\, Milwaukee\, WI\, 53211\, United States
CATEGORIES:Free Friday Night Flicks
END:VEVENT
END:VCALENDAR