BEGIN:VCALENDAR
VERSION:2.0
PRODID:-//Lake Park Friends - ECPv6.15.20//NONSGML v1.0//EN
CALSCALE:GREGORIAN
METHOD:PUBLISH
X-WR-CALNAME:Lake Park Friends
X-ORIGINAL-URL:https://lakeparkfriends.org
X-WR-CALDESC:Events for Lake Park Friends
REFRESH-INTERVAL;VALUE=DURATION:PT1H
X-Robots-Tag:noindex
X-PUBLISHED-TTL:PT1H
BEGIN:VTIMEZONE
TZID:America/Chicago
BEGIN:DAYLIGHT
TZOFFSETFROM:-0600
TZOFFSETTO:-0500
TZNAME:CDT
DTSTART:20330313T080000
END:DAYLIGHT
BEGIN:STANDARD
TZOFFSETFROM:-0500
TZOFFSETTO:-0600
TZNAME:CST
DTSTART:20331106T070000
END:STANDARD
BEGIN:DAYLIGHT
TZOFFSETFROM:-0600
TZOFFSETTO:-0500
TZNAME:CDT
DTSTART:20340312T080000
END:DAYLIGHT
BEGIN:STANDARD
TZOFFSETFROM:-0500
TZOFFSETTO:-0600
TZNAME:CST
DTSTART:20341105T070000
END:STANDARD
BEGIN:DAYLIGHT
TZOFFSETFROM:-0600
TZOFFSETTO:-0500
TZNAME:CDT
DTSTART:20350311T080000
END:DAYLIGHT
BEGIN:STANDARD
TZOFFSETFROM:-0500
TZOFFSETTO:-0600
TZNAME:CST
DTSTART:20351104T070000
END:STANDARD
END:VTIMEZONE
BEGIN:VEVENT
DTSTART;VALUE=DATE:20340406
DTEND;VALUE=DATE:20340407
DTSTAMP:20260423T002517
CREATED:20260330T194128Z
LAST-MODIFIED:20260330T194128Z
UID:948-2027894400-2027980799@lakeparkfriends.org
SUMMARY:National Walking Day
DESCRIPTION:The first Wednesday in April is known as NATIONAL WALKING DAY. It encourages people to get out\, stretch their legs and get the hearts pumping. Why not get out and stretch your legs and get your heart pumping in Lake Park today?
URL:https://lakeparkfriends.org/event/national-walking-day-3/
CATEGORIES:Holidays
END:VEVENT
BEGIN:VEVENT
DTSTART;VALUE=DATE:20340422
DTEND;VALUE=DATE:20340423
DTSTAMP:20260423T002517
CREATED:20260330T193301Z
LAST-MODIFIED:20260330T193301Z
UID:787-2029276800-2029363199@lakeparkfriends.org
SUMMARY:Earth Day
DESCRIPTION:Happy Earth Day! Find some time today\, or in the next couple of days\, to visit Lake Park and be inspired by its history and beauty. Have your spirit renewed and join the 1 billion people in 190 countries who are taking action for Earth Day!
URL:https://lakeparkfriends.org/event/earth-day-3/
CATEGORIES:Holidays
END:VEVENT
BEGIN:VEVENT
DTSTART;VALUE=DATE:20340426
DTEND;VALUE=DATE:20340427
DTSTAMP:20260423T002517
CREATED:20260330T193741Z
LAST-MODIFIED:20260330T193741Z
UID:871-2029622400-2029708799@lakeparkfriends.org
SUMMARY:Frederick Law Olmsted’s Birthday
DESCRIPTION:Today\, we recognized the 199th birthday of the Father of Landscape Architecture\, and the designer of Lake Park\, Frederick Law Olmsted. To learn more about his life\, click here.
URL:https://lakeparkfriends.org/event/frederick-law-olmsteds-birthday-3/
CATEGORIES:Holidays
END:VEVENT
BEGIN:VEVENT
DTSTART;VALUE=DATE:20340429
DTEND;VALUE=DATE:20340430
DTSTAMP:20260423T002517
CREATED:20260330T193005Z
LAST-MODIFIED:20260330T193005Z
UID:728-2029881600-2029967999@lakeparkfriends.org
SUMMARY:Arbor Day
DESCRIPTION:Plant a tree\, save a tree or come to Lake Park and walk among the trees!
URL:https://lakeparkfriends.org/event/arbor-day-3/
CATEGORIES:Holidays
END:VEVENT
END:VCALENDAR