BEGIN:VCALENDAR
VERSION:2.0
PRODID:-//Lake Park Friends - ECPv6.15.20//NONSGML v1.0//EN
CALSCALE:GREGORIAN
METHOD:PUBLISH
X-ORIGINAL-URL:https://lakeparkfriends.org
X-WR-CALDESC:Events for Lake Park Friends
REFRESH-INTERVAL;VALUE=DURATION:PT1H
X-Robots-Tag:noindex
X-PUBLISHED-TTL:PT1H
BEGIN:VTIMEZONE
TZID:America/Chicago
BEGIN:DAYLIGHT
TZOFFSETFROM:-0600
TZOFFSETTO:-0500
TZNAME:CDT
DTSTART:20350311T080000
END:DAYLIGHT
BEGIN:STANDARD
TZOFFSETFROM:-0500
TZOFFSETTO:-0600
TZNAME:CST
DTSTART:20351104T070000
END:STANDARD
BEGIN:DAYLIGHT
TZOFFSETFROM:-0600
TZOFFSETTO:-0500
TZNAME:CDT
DTSTART:20360309T080000
END:DAYLIGHT
BEGIN:STANDARD
TZOFFSETFROM:-0500
TZOFFSETTO:-0600
TZNAME:CST
DTSTART:20361102T070000
END:STANDARD
BEGIN:DAYLIGHT
TZOFFSETFROM:-0600
TZOFFSETTO:-0500
TZNAME:CDT
DTSTART:20370308T080000
END:DAYLIGHT
BEGIN:STANDARD
TZOFFSETFROM:-0500
TZOFFSETTO:-0600
TZNAME:CST
DTSTART:20371101T070000
END:STANDARD
END:VTIMEZONE
BEGIN:VEVENT
DTSTART;VALUE=DATE:20360406
DTEND;VALUE=DATE:20360407
DTSTAMP:20260423T180334
CREATED:20260330T194126Z
LAST-MODIFIED:20260330T194126Z
UID:946-2091052800-2091139199@lakeparkfriends.org
SUMMARY:National Walking Day
DESCRIPTION:The first Wednesday in April is known as NATIONAL WALKING DAY. It encourages people to get out\, stretch their legs and get the hearts pumping. Why not get out and stretch your legs and get your heart pumping in Lake Park today?
URL:https://lakeparkfriends.org/event/national-walking-day/
CATEGORIES:Holidays
END:VEVENT
BEGIN:VEVENT
DTSTART;VALUE=DATE:20360422
DTEND;VALUE=DATE:20360423
DTSTAMP:20260423T180334
CREATED:20260330T193248Z
LAST-MODIFIED:20260330T193248Z
UID:785-2092435200-2092521599@lakeparkfriends.org
SUMMARY:Earth Day
DESCRIPTION:Happy Earth Day! Find some time today\, or in the next couple of days\, to visit Lake Park and be inspired by its history and beauty. Have your spirit renewed and join the 1 billion people in 190 countries who are taking action for Earth Day!
URL:https://lakeparkfriends.org/event/earth-day/
CATEGORIES:Holidays
END:VEVENT
BEGIN:VEVENT
DTSTART;VALUE=DATE:20360426
DTEND;VALUE=DATE:20360427
DTSTAMP:20260423T180334
CREATED:20260330T193729Z
LAST-MODIFIED:20260330T193729Z
UID:869-2092780800-2092867199@lakeparkfriends.org
SUMMARY:Frederick Law Olmsted’s Birthday
DESCRIPTION:Today\, we recognized the 199th birthday of the Father of Landscape Architecture\, and the designer of Lake Park\, Frederick Law Olmsted. To learn more about his life\, click here.
URL:https://lakeparkfriends.org/event/frederick-law-olmsteds-birthday/
CATEGORIES:Holidays
END:VEVENT
BEGIN:VEVENT
DTSTART;VALUE=DATE:20360429
DTEND;VALUE=DATE:20360430
DTSTAMP:20260423T180334
CREATED:20260330T193000Z
LAST-MODIFIED:20260330T193000Z
UID:726-2093040000-2093126399@lakeparkfriends.org
SUMMARY:Arbor Day
DESCRIPTION:Plant a tree\, save a tree or come to Lake Park and walk among the trees!
URL:https://lakeparkfriends.org/event/arbor-day/
CATEGORIES:Holidays
END:VEVENT
END:VCALENDAR