BEGIN:VCALENDAR
VERSION:2.0
PRODID:-//Lake Park Friends - ECPv6.15.20//NONSGML v1.0//EN
CALSCALE:GREGORIAN
METHOD:PUBLISH
X-WR-CALNAME:Lake Park Friends
X-ORIGINAL-URL:https://lakeparkfriends.org
X-WR-CALDESC:Events for Lake Park Friends
REFRESH-INTERVAL;VALUE=DURATION:PT1H
X-Robots-Tag:noindex
X-PUBLISHED-TTL:PT1H
BEGIN:VTIMEZONE
TZID:America/Chicago
BEGIN:DAYLIGHT
TZOFFSETFROM:-0600
TZOFFSETTO:-0500
TZNAME:CDT
DTSTART:20250309T080000
END:DAYLIGHT
BEGIN:STANDARD
TZOFFSETFROM:-0500
TZOFFSETTO:-0600
TZNAME:CST
DTSTART:20251102T070000
END:STANDARD
BEGIN:DAYLIGHT
TZOFFSETFROM:-0600
TZOFFSETTO:-0500
TZNAME:CDT
DTSTART:20260308T080000
END:DAYLIGHT
BEGIN:STANDARD
TZOFFSETFROM:-0500
TZOFFSETTO:-0600
TZNAME:CST
DTSTART:20261101T070000
END:STANDARD
BEGIN:DAYLIGHT
TZOFFSETFROM:-0600
TZOFFSETTO:-0500
TZNAME:CDT
DTSTART:20270314T080000
END:DAYLIGHT
BEGIN:STANDARD
TZOFFSETFROM:-0500
TZOFFSETTO:-0600
TZNAME:CST
DTSTART:20271107T070000
END:STANDARD
BEGIN:DAYLIGHT
TZOFFSETFROM:-0600
TZOFFSETTO:-0500
TZNAME:CDT
DTSTART:20280312T080000
END:DAYLIGHT
BEGIN:STANDARD
TZOFFSETFROM:-0500
TZOFFSETTO:-0600
TZNAME:CST
DTSTART:20281105T070000
END:STANDARD
BEGIN:DAYLIGHT
TZOFFSETFROM:-0600
TZOFFSETTO:-0500
TZNAME:CDT
DTSTART:20290311T080000
END:DAYLIGHT
BEGIN:STANDARD
TZOFFSETFROM:-0500
TZOFFSETTO:-0600
TZNAME:CST
DTSTART:20291104T070000
END:STANDARD
BEGIN:DAYLIGHT
TZOFFSETFROM:-0600
TZOFFSETTO:-0500
TZNAME:CDT
DTSTART:20300310T080000
END:DAYLIGHT
BEGIN:STANDARD
TZOFFSETFROM:-0500
TZOFFSETTO:-0600
TZNAME:CST
DTSTART:20301103T070000
END:STANDARD
BEGIN:DAYLIGHT
TZOFFSETFROM:-0600
TZOFFSETTO:-0500
TZNAME:CDT
DTSTART:20310309T080000
END:DAYLIGHT
BEGIN:STANDARD
TZOFFSETFROM:-0500
TZOFFSETTO:-0600
TZNAME:CST
DTSTART:20311102T070000
END:STANDARD
BEGIN:DAYLIGHT
TZOFFSETFROM:-0600
TZOFFSETTO:-0500
TZNAME:CDT
DTSTART:20320314T080000
END:DAYLIGHT
BEGIN:STANDARD
TZOFFSETFROM:-0500
TZOFFSETTO:-0600
TZNAME:CST
DTSTART:20321107T070000
END:STANDARD
END:VTIMEZONE
BEGIN:VEVENT
DTSTART;VALUE=DATE:20260422
DTEND;VALUE=DATE:20260423
DTSTAMP:20260419T122503
CREATED:20260330T193319Z
LAST-MODIFIED:20260330T193319Z
UID:795-1776816000-1776902399@lakeparkfriends.org
SUMMARY:Earth Day
DESCRIPTION:Happy Earth Day! Find some time today\, or in the next couple of days\, to visit Lake Park and be inspired by its history and beauty. Have your spirit renewed and join the 1 billion people in 190 countries who are taking action for Earth Day!
URL:https://lakeparkfriends.org/event/earth-day-11/
CATEGORIES:Holidays
END:VEVENT
BEGIN:VEVENT
DTSTART;VALUE=DATE:20260426
DTEND;VALUE=DATE:20260427
DTSTAMP:20260419T122503
CREATED:20260330T193758Z
LAST-MODIFIED:20260330T193758Z
UID:879-1777161600-1777247999@lakeparkfriends.org
SUMMARY:Frederick Law Olmsted’s Birthday
DESCRIPTION:Today\, we recognized the 199th birthday of the Father of Landscape Architecture\, and the designer of Lake Park\, Frederick Law Olmsted. To learn more about his life\, click here.
URL:https://lakeparkfriends.org/event/frederick-law-olmsteds-birthday-11/
CATEGORIES:Holidays
END:VEVENT
BEGIN:VEVENT
DTSTART;VALUE=DATE:20260429
DTEND;VALUE=DATE:20260430
DTSTAMP:20260419T122503
CREATED:20260330T193031Z
LAST-MODIFIED:20260330T193031Z
UID:736-1777420800-1777507199@lakeparkfriends.org
SUMMARY:Arbor Day
DESCRIPTION:Plant a tree\, save a tree or come to Lake Park and walk among the trees!
URL:https://lakeparkfriends.org/event/arbor-day-11/
CATEGORIES:Holidays
END:VEVENT
BEGIN:VEVENT
DTSTART;TZID=America/Chicago:20260704T090000
DTEND;TZID=America/Chicago:20260704T220000
DTSTAMP:20260419T122503
CREATED:20260330T193915Z
LAST-MODIFIED:20260330T193915Z
UID:905-1783155600-1783202400@lakeparkfriends.org
SUMMARY:July 4th in Lake Park
DESCRIPTION:For all information regarding July 4th festivities in Lake Park\, visit the City of Milwaukee Fourth of July Commission’s website.
URL:https://lakeparkfriends.org/event/july-4th-in-lake-park-11/
CATEGORIES:Holidays
END:VEVENT
BEGIN:VEVENT
DTSTART;VALUE=DATE:20270212
DTEND;VALUE=DATE:20270213
DTSTAMP:20260419T122503
CREATED:20260330T193131Z
LAST-MODIFIED:20260330T193131Z
UID:756-1802390400-1802476799@lakeparkfriends.org
SUMMARY:Christian Wahl’s Birthday
DESCRIPTION:Christian Wahl was born in 1829. He was very instrumental in bringing Frederick Law Olmsted to Milwaukee to help design Lake Park\, Riverside Park and Washington Park.
URL:https://lakeparkfriends.org/event/christian-wahls-birthday-10/
CATEGORIES:Holidays
END:VEVENT
BEGIN:VEVENT
DTSTART;VALUE=DATE:20270406
DTEND;VALUE=DATE:20270407
DTSTAMP:20260419T122503
CREATED:20260330T194144Z
LAST-MODIFIED:20260330T194144Z
UID:955-1806969600-1807055999@lakeparkfriends.org
SUMMARY:National Walking Day
DESCRIPTION:The first Wednesday in April is known as NATIONAL WALKING DAY. It encourages people to get out\, stretch their legs and get the hearts pumping. Why not get out and stretch your legs and get your heart pumping in Lake Park today?
URL:https://lakeparkfriends.org/event/national-walking-day-10/
CATEGORIES:Holidays
END:VEVENT
BEGIN:VEVENT
DTSTART;VALUE=DATE:20270422
DTEND;VALUE=DATE:20270423
DTSTAMP:20260419T122503
CREATED:20260330T193318Z
LAST-MODIFIED:20260330T193318Z
UID:794-1808352000-1808438399@lakeparkfriends.org
SUMMARY:Earth Day
DESCRIPTION:Happy Earth Day! Find some time today\, or in the next couple of days\, to visit Lake Park and be inspired by its history and beauty. Have your spirit renewed and join the 1 billion people in 190 countries who are taking action for Earth Day!
URL:https://lakeparkfriends.org/event/earth-day-10/
CATEGORIES:Holidays
END:VEVENT
BEGIN:VEVENT
DTSTART;VALUE=DATE:20270426
DTEND;VALUE=DATE:20270427
DTSTAMP:20260419T122503
CREATED:20260330T193758Z
LAST-MODIFIED:20260330T193758Z
UID:878-1808697600-1808783999@lakeparkfriends.org
SUMMARY:Frederick Law Olmsted’s Birthday
DESCRIPTION:Today\, we recognized the 199th birthday of the Father of Landscape Architecture\, and the designer of Lake Park\, Frederick Law Olmsted. To learn more about his life\, click here.
URL:https://lakeparkfriends.org/event/frederick-law-olmsteds-birthday-10/
CATEGORIES:Holidays
END:VEVENT
BEGIN:VEVENT
DTSTART;VALUE=DATE:20270429
DTEND;VALUE=DATE:20270430
DTSTAMP:20260419T122503
CREATED:20260330T193019Z
LAST-MODIFIED:20260330T193019Z
UID:735-1808956800-1809043199@lakeparkfriends.org
SUMMARY:Arbor Day
DESCRIPTION:Plant a tree\, save a tree or come to Lake Park and walk among the trees!
URL:https://lakeparkfriends.org/event/arbor-day-10/
CATEGORIES:Holidays
END:VEVENT
BEGIN:VEVENT
DTSTART;TZID=America/Chicago:20270704T090000
DTEND;TZID=America/Chicago:20270704T220000
DTSTAMP:20260419T122503
CREATED:20260330T193914Z
LAST-MODIFIED:20260330T193914Z
UID:904-1814691600-1814738400@lakeparkfriends.org
SUMMARY:July 4th in Lake Park
DESCRIPTION:For all information regarding July 4th festivities in Lake Park\, visit the City of Milwaukee Fourth of July Commission’s website.
URL:https://lakeparkfriends.org/event/july-4th-in-lake-park-10/
CATEGORIES:Holidays
END:VEVENT
BEGIN:VEVENT
DTSTART;VALUE=DATE:20280212
DTEND;VALUE=DATE:20280213
DTSTAMP:20260419T122503
CREATED:20260330T193119Z
LAST-MODIFIED:20260330T193119Z
UID:755-1833926400-1834012799@lakeparkfriends.org
SUMMARY:Christian Wahl’s Birthday
DESCRIPTION:Christian Wahl was born in 1829. He was very instrumental in bringing Frederick Law Olmsted to Milwaukee to help design Lake Park\, Riverside Park and Washington Park.
URL:https://lakeparkfriends.org/event/christian-wahls-birthday-9/
CATEGORIES:Holidays
END:VEVENT
BEGIN:VEVENT
DTSTART;VALUE=DATE:20280406
DTEND;VALUE=DATE:20280407
DTSTAMP:20260419T122503
CREATED:20260330T194143Z
LAST-MODIFIED:20260330T194143Z
UID:954-1838592000-1838678399@lakeparkfriends.org
SUMMARY:National Walking Day
DESCRIPTION:The first Wednesday in April is known as NATIONAL WALKING DAY. It encourages people to get out\, stretch their legs and get the hearts pumping. Why not get out and stretch your legs and get your heart pumping in Lake Park today?
URL:https://lakeparkfriends.org/event/national-walking-day-9/
CATEGORIES:Holidays
END:VEVENT
BEGIN:VEVENT
DTSTART;VALUE=DATE:20280422
DTEND;VALUE=DATE:20280423
DTSTAMP:20260419T122503
CREATED:20260330T193317Z
LAST-MODIFIED:20260330T193317Z
UID:793-1839974400-1840060799@lakeparkfriends.org
SUMMARY:Earth Day
DESCRIPTION:Happy Earth Day! Find some time today\, or in the next couple of days\, to visit Lake Park and be inspired by its history and beauty. Have your spirit renewed and join the 1 billion people in 190 countries who are taking action for Earth Day!
URL:https://lakeparkfriends.org/event/earth-day-9/
CATEGORIES:Holidays
END:VEVENT
BEGIN:VEVENT
DTSTART;VALUE=DATE:20280426
DTEND;VALUE=DATE:20280427
DTSTAMP:20260419T122503
CREATED:20260330T193757Z
LAST-MODIFIED:20260330T193757Z
UID:877-1840320000-1840406399@lakeparkfriends.org
SUMMARY:Frederick Law Olmsted’s Birthday
DESCRIPTION:Today\, we recognized the 199th birthday of the Father of Landscape Architecture\, and the designer of Lake Park\, Frederick Law Olmsted. To learn more about his life\, click here.
URL:https://lakeparkfriends.org/event/frederick-law-olmsteds-birthday-9/
CATEGORIES:Holidays
END:VEVENT
BEGIN:VEVENT
DTSTART;VALUE=DATE:20280429
DTEND;VALUE=DATE:20280430
DTSTAMP:20260419T122503
CREATED:20260330T193018Z
LAST-MODIFIED:20260330T193018Z
UID:734-1840579200-1840665599@lakeparkfriends.org
SUMMARY:Arbor Day
DESCRIPTION:Plant a tree\, save a tree or come to Lake Park and walk among the trees!
URL:https://lakeparkfriends.org/event/arbor-day-9/
CATEGORIES:Holidays
END:VEVENT
BEGIN:VEVENT
DTSTART;TZID=America/Chicago:20280704T090000
DTEND;TZID=America/Chicago:20280704T220000
DTSTAMP:20260419T122503
CREATED:20260330T193913Z
LAST-MODIFIED:20260330T193913Z
UID:903-1846314000-1846360800@lakeparkfriends.org
SUMMARY:July 4th in Lake Park
DESCRIPTION:For all information regarding July 4th festivities in Lake Park\, visit the City of Milwaukee Fourth of July Commission’s website.
URL:https://lakeparkfriends.org/event/july-4th-in-lake-park-9/
CATEGORIES:Holidays
END:VEVENT
BEGIN:VEVENT
DTSTART;VALUE=DATE:20290212
DTEND;VALUE=DATE:20290213
DTSTAMP:20260419T122503
CREATED:20260330T193118Z
LAST-MODIFIED:20260330T193118Z
UID:754-1865548800-1865635199@lakeparkfriends.org
SUMMARY:Christian Wahl’s Birthday
DESCRIPTION:Christian Wahl was born in 1829. He was very instrumental in bringing Frederick Law Olmsted to Milwaukee to help design Lake Park\, Riverside Park and Washington Park.
URL:https://lakeparkfriends.org/event/christian-wahls-birthday-8/
CATEGORIES:Holidays
END:VEVENT
BEGIN:VEVENT
DTSTART;VALUE=DATE:20290406
DTEND;VALUE=DATE:20290407
DTSTAMP:20260419T122503
CREATED:20260330T194142Z
LAST-MODIFIED:20260330T194142Z
UID:953-1870128000-1870214399@lakeparkfriends.org
SUMMARY:National Walking Day
DESCRIPTION:The first Wednesday in April is known as NATIONAL WALKING DAY. It encourages people to get out\, stretch their legs and get the hearts pumping. Why not get out and stretch your legs and get your heart pumping in Lake Park today?
URL:https://lakeparkfriends.org/event/national-walking-day-8/
CATEGORIES:Holidays
END:VEVENT
BEGIN:VEVENT
DTSTART;VALUE=DATE:20290422
DTEND;VALUE=DATE:20290423
DTSTAMP:20260419T122503
CREATED:20260330T193317Z
LAST-MODIFIED:20260330T193317Z
UID:792-1871510400-1871596799@lakeparkfriends.org
SUMMARY:Earth Day
DESCRIPTION:Happy Earth Day! Find some time today\, or in the next couple of days\, to visit Lake Park and be inspired by its history and beauty. Have your spirit renewed and join the 1 billion people in 190 countries who are taking action for Earth Day!
URL:https://lakeparkfriends.org/event/earth-day-8/
CATEGORIES:Holidays
END:VEVENT
BEGIN:VEVENT
DTSTART;VALUE=DATE:20290426
DTEND;VALUE=DATE:20290427
DTSTAMP:20260419T122503
CREATED:20260330T193756Z
LAST-MODIFIED:20260330T193756Z
UID:876-1871856000-1871942399@lakeparkfriends.org
SUMMARY:Frederick Law Olmsted’s Birthday
DESCRIPTION:Today\, we recognized the 199th birthday of the Father of Landscape Architecture\, and the designer of Lake Park\, Frederick Law Olmsted. To learn more about his life\, click here.
URL:https://lakeparkfriends.org/event/frederick-law-olmsteds-birthday-8/
CATEGORIES:Holidays
END:VEVENT
BEGIN:VEVENT
DTSTART;VALUE=DATE:20290429
DTEND;VALUE=DATE:20290430
DTSTAMP:20260419T122503
CREATED:20260330T193017Z
LAST-MODIFIED:20260330T193017Z
UID:733-1872115200-1872201599@lakeparkfriends.org
SUMMARY:Arbor Day
DESCRIPTION:Plant a tree\, save a tree or come to Lake Park and walk among the trees!
URL:https://lakeparkfriends.org/event/arbor-day-8/
CATEGORIES:Holidays
END:VEVENT
BEGIN:VEVENT
DTSTART;TZID=America/Chicago:20290704T090000
DTEND;TZID=America/Chicago:20290704T220000
DTSTAMP:20260419T122503
CREATED:20260330T193912Z
LAST-MODIFIED:20260330T193912Z
UID:902-1877850000-1877896800@lakeparkfriends.org
SUMMARY:July 4th in Lake Park
DESCRIPTION:For all information regarding July 4th festivities in Lake Park\, visit the City of Milwaukee Fourth of July Commission’s website.
URL:https://lakeparkfriends.org/event/july-4th-in-lake-park-8/
CATEGORIES:Holidays
END:VEVENT
BEGIN:VEVENT
DTSTART;VALUE=DATE:20300212
DTEND;VALUE=DATE:20300213
DTSTAMP:20260419T122503
CREATED:20260330T193117Z
LAST-MODIFIED:20260330T193117Z
UID:753-1897084800-1897171199@lakeparkfriends.org
SUMMARY:Christian Wahl’s Birthday
DESCRIPTION:Christian Wahl was born in 1829. He was very instrumental in bringing Frederick Law Olmsted to Milwaukee to help design Lake Park\, Riverside Park and Washington Park.
URL:https://lakeparkfriends.org/event/christian-wahls-birthday-7/
CATEGORIES:Holidays
END:VEVENT
BEGIN:VEVENT
DTSTART;VALUE=DATE:20300406
DTEND;VALUE=DATE:20300407
DTSTAMP:20260419T122503
CREATED:20260330T194142Z
LAST-MODIFIED:20260330T194142Z
UID:952-1901664000-1901750399@lakeparkfriends.org
SUMMARY:National Walking Day
DESCRIPTION:The first Wednesday in April is known as NATIONAL WALKING DAY. It encourages people to get out\, stretch their legs and get the hearts pumping. Why not get out and stretch your legs and get your heart pumping in Lake Park today?
URL:https://lakeparkfriends.org/event/national-walking-day-7/
CATEGORIES:Holidays
END:VEVENT
BEGIN:VEVENT
DTSTART;VALUE=DATE:20300422
DTEND;VALUE=DATE:20300423
DTSTAMP:20260419T122503
CREATED:20260330T193316Z
LAST-MODIFIED:20260330T193316Z
UID:791-1903046400-1903132799@lakeparkfriends.org
SUMMARY:Earth Day
DESCRIPTION:Happy Earth Day! Find some time today\, or in the next couple of days\, to visit Lake Park and be inspired by its history and beauty. Have your spirit renewed and join the 1 billion people in 190 countries who are taking action for Earth Day!
URL:https://lakeparkfriends.org/event/earth-day-7/
CATEGORIES:Holidays
END:VEVENT
BEGIN:VEVENT
DTSTART;VALUE=DATE:20300426
DTEND;VALUE=DATE:20300427
DTSTAMP:20260419T122503
CREATED:20260330T193744Z
LAST-MODIFIED:20260330T193744Z
UID:875-1903392000-1903478399@lakeparkfriends.org
SUMMARY:Frederick Law Olmsted’s Birthday
DESCRIPTION:Today\, we recognized the 199th birthday of the Father of Landscape Architecture\, and the designer of Lake Park\, Frederick Law Olmsted. To learn more about his life\, click here.
URL:https://lakeparkfriends.org/event/frederick-law-olmsteds-birthday-7/
CATEGORIES:Holidays
END:VEVENT
BEGIN:VEVENT
DTSTART;VALUE=DATE:20300429
DTEND;VALUE=DATE:20300430
DTSTAMP:20260419T122503
CREATED:20260330T193016Z
LAST-MODIFIED:20260330T193016Z
UID:732-1903651200-1903737599@lakeparkfriends.org
SUMMARY:Arbor Day
DESCRIPTION:Plant a tree\, save a tree or come to Lake Park and walk among the trees!
URL:https://lakeparkfriends.org/event/arbor-day-7/
CATEGORIES:Holidays
END:VEVENT
BEGIN:VEVENT
DTSTART;TZID=America/Chicago:20300704T090000
DTEND;TZID=America/Chicago:20300704T220000
DTSTAMP:20260419T122503
CREATED:20260330T193911Z
LAST-MODIFIED:20260330T193911Z
UID:901-1909386000-1909432800@lakeparkfriends.org
SUMMARY:July 4th in Lake Park
DESCRIPTION:For all information regarding July 4th festivities in Lake Park\, visit the City of Milwaukee Fourth of July Commission’s website.
URL:https://lakeparkfriends.org/event/july-4th-in-lake-park-7/
CATEGORIES:Holidays
END:VEVENT
BEGIN:VEVENT
DTSTART;VALUE=DATE:20310212
DTEND;VALUE=DATE:20310213
DTSTAMP:20260419T122503
CREATED:20260330T193117Z
LAST-MODIFIED:20260330T193117Z
UID:752-1928620800-1928707199@lakeparkfriends.org
SUMMARY:Christian Wahl’s Birthday
DESCRIPTION:Christian Wahl was born in 1829. He was very instrumental in bringing Frederick Law Olmsted to Milwaukee to help design Lake Park\, Riverside Park and Washington Park.
URL:https://lakeparkfriends.org/event/christian-wahls-birthday-6/
CATEGORIES:Holidays
END:VEVENT
BEGIN:VEVENT
DTSTART;VALUE=DATE:20310406
DTEND;VALUE=DATE:20310407
DTSTAMP:20260419T122503
CREATED:20260330T194141Z
LAST-MODIFIED:20260330T194141Z
UID:951-1933200000-1933286399@lakeparkfriends.org
SUMMARY:National Walking Day
DESCRIPTION:The first Wednesday in April is known as NATIONAL WALKING DAY. It encourages people to get out\, stretch their legs and get the hearts pumping. Why not get out and stretch your legs and get your heart pumping in Lake Park today?
URL:https://lakeparkfriends.org/event/national-walking-day-6/
CATEGORIES:Holidays
END:VEVENT
END:VCALENDAR