BEGIN:VCALENDAR
VERSION:2.0
PRODID:-//Lake Park Friends - ECPv6.15.20//NONSGML v1.0//EN
CALSCALE:GREGORIAN
METHOD:PUBLISH
X-ORIGINAL-URL:https://lakeparkfriends.org
X-WR-CALDESC:Events for Lake Park Friends
REFRESH-INTERVAL;VALUE=DURATION:PT1H
X-Robots-Tag:noindex
X-PUBLISHED-TTL:PT1H
BEGIN:VTIMEZONE
TZID:America/Chicago
BEGIN:DAYLIGHT
TZOFFSETFROM:-0600
TZOFFSETTO:-0500
TZNAME:CDT
DTSTART:20240310T080000
END:DAYLIGHT
BEGIN:STANDARD
TZOFFSETFROM:-0500
TZOFFSETTO:-0600
TZNAME:CST
DTSTART:20241103T070000
END:STANDARD
BEGIN:DAYLIGHT
TZOFFSETFROM:-0600
TZOFFSETTO:-0500
TZNAME:CDT
DTSTART:20250309T080000
END:DAYLIGHT
BEGIN:STANDARD
TZOFFSETFROM:-0500
TZOFFSETTO:-0600
TZNAME:CST
DTSTART:20251102T070000
END:STANDARD
BEGIN:DAYLIGHT
TZOFFSETFROM:-0600
TZOFFSETTO:-0500
TZNAME:CDT
DTSTART:20260308T080000
END:DAYLIGHT
BEGIN:STANDARD
TZOFFSETFROM:-0500
TZOFFSETTO:-0600
TZNAME:CST
DTSTART:20261101T070000
END:STANDARD
END:VTIMEZONE
BEGIN:VEVENT
DTSTART;TZID=America/Chicago:20250707T183000
DTEND;TZID=America/Chicago:20250707T200000
DTSTAMP:20260420T085751
CREATED:20260330T194014Z
LAST-MODIFIED:20260330T194014Z
UID:923-1751913000-1751918400@lakeparkfriends.org
SUMMARY:Musical Mondays – Sinkane
DESCRIPTION:SINKANE. Sinkane (aka Ahmed Gallab) and his high-energy six-piece band bring ambitious\, dazzling sounds of a world of music – from funk to free jazz to pop – set to the foundational soul of the rhythms of his native Sudan. \nFor all concert info\, see our Music in the Park page.
URL:https://lakeparkfriends.org/event/musical-mondays-sinkane/
LOCATION:Lake Park Summer Stage\, 2975 N Lake Park Rd\, Milwaukee\, WI\, 53211\, United States
CATEGORIES:Musical Mondays
END:VEVENT
BEGIN:VEVENT
DTSTART;TZID=America/Chicago:20250714T183000
DTEND;TZID=America/Chicago:20250714T200000
DTSTAMP:20260420T085751
CREATED:20260330T193957Z
LAST-MODIFIED:20260330T193957Z
UID:917-1752517800-1752523200@lakeparkfriends.org
SUMMARY:Musical Mondays – Bonerama
DESCRIPTION:BONERAMA. A legendary New Orleans band featuring three trombones\, Bonerama plays a genre-bending gumbo that covers the sound of everything from Crescent City horn bands\, soul and gospel to music of The Beatles and Led Zeppelin. \nFor all concert info\, see our Music in the Park page.
URL:https://lakeparkfriends.org/event/musical-mondays-bonerama/
LOCATION:Lake Park Summer Stage\, 2975 N Lake Park Rd\, Milwaukee\, WI\, 53211\, United States
CATEGORIES:Musical Mondays
END:VEVENT
BEGIN:VEVENT
DTSTART;TZID=America/Chicago:20250721T183000
DTEND;TZID=America/Chicago:20250721T200000
DTSTAMP:20260420T085751
CREATED:20260330T194011Z
LAST-MODIFIED:20260330T194011Z
UID:921-1753122600-1753128000@lakeparkfriends.org
SUMMARY:Musical Mondays – Mississippi Heat
DESCRIPTION:MISSISSIPPI HEAT. A storied Chicago blues band led by harmonica master and songwriter Pierre Lacocque\, Mississippi Heat’s name and sound are a reflection of the harp man’s reverence for Mississippi’s blues culture and music. \nFor all concert info\, see our Music in the Park page.
URL:https://lakeparkfriends.org/event/musical-mondays-mississippi-heat/
LOCATION:Lake Park Summer Stage\, 2975 N Lake Park Rd\, Milwaukee\, WI\, 53211\, United States
CATEGORIES:Musical Mondays
END:VEVENT
BEGIN:VEVENT
DTSTART;TZID=America/Chicago:20250728T183000
DTEND;TZID=America/Chicago:20250728T200000
DTSTAMP:20260420T085751
CREATED:20260330T193958Z
LAST-MODIFIED:20260330T193958Z
UID:918-1753727400-1753732800@lakeparkfriends.org
SUMMARY:Musical Mondays – Chloe Kimes
DESCRIPTION:CHLOE KIMES. A Nashville musician with roots in northern Michigan\, rising Americana artist Chloe Kimes is defining the next generation of troubadours with an old-soul sensibility for storytelling in a spirited alt-country group. \nFor all concert info\, see our Music in the Park page.
URL:https://lakeparkfriends.org/event/musical-mondays-chloe-kimes/
LOCATION:Lake Park Summer Stage\, 2975 N Lake Park Rd\, Milwaukee\, WI\, 53211\, United States
CATEGORIES:Musical Mondays
END:VEVENT
END:VCALENDAR