BEGIN:VCALENDAR
VERSION:2.0
PRODID:-//Lake Park Friends - ECPv6.15.20//NONSGML v1.0//EN
CALSCALE:GREGORIAN
METHOD:PUBLISH
X-ORIGINAL-URL:https://lakeparkfriends.org
X-WR-CALDESC:Events for Lake Park Friends
REFRESH-INTERVAL;VALUE=DURATION:PT1H
X-Robots-Tag:noindex
X-PUBLISHED-TTL:PT1H
BEGIN:VTIMEZONE
TZID:America/Chicago
BEGIN:DAYLIGHT
TZOFFSETFROM:-0600
TZOFFSETTO:-0500
TZNAME:CDT
DTSTART:20250309T080000
END:DAYLIGHT
BEGIN:STANDARD
TZOFFSETFROM:-0500
TZOFFSETTO:-0600
TZNAME:CST
DTSTART:20251102T070000
END:STANDARD
BEGIN:DAYLIGHT
TZOFFSETFROM:-0600
TZOFFSETTO:-0500
TZNAME:CDT
DTSTART:20260308T080000
END:DAYLIGHT
BEGIN:STANDARD
TZOFFSETFROM:-0500
TZOFFSETTO:-0600
TZNAME:CST
DTSTART:20261101T070000
END:STANDARD
BEGIN:DAYLIGHT
TZOFFSETFROM:-0600
TZOFFSETTO:-0500
TZNAME:CDT
DTSTART:20270314T080000
END:DAYLIGHT
BEGIN:STANDARD
TZOFFSETFROM:-0500
TZOFFSETTO:-0600
TZNAME:CST
DTSTART:20271107T070000
END:STANDARD
END:VTIMEZONE
BEGIN:VEVENT
DTSTART;TZID=America/Chicago:20260701T100000
DTEND;TZID=America/Chicago:20260701T110000
DTSTAMP:20260419T140652
CREATED:20260330T194330Z
LAST-MODIFIED:20260330T194330Z
UID:990-1782900000-1782903600@lakeparkfriends.org
SUMMARY:Wednesday Walkers
DESCRIPTION:Lake Park is a gorgeous setting for a stroll. Come and gather with others for a weekly walk through the park. We’ll meet at the top of the Grand Staircase each Wednesday (Mid May to November) at 10:00 a.m. and then walk for about 30-45 minutes through the park. No need to sign up\, and there is no fee! Walk at your own pace. Bring a friend or neighbor\, make new friends\, and explore the park together! Leashed dogs are welcome\, too.
URL:https://lakeparkfriends.org/event/wednesday-walkers-22/
LOCATION:Marcia Coles Community Room\, 3133 E Newberry Blvd\, Milwaukee\, WI\, 53211\, United States
CATEGORIES:Wednesday Walkers
END:VEVENT
BEGIN:VEVENT
DTSTART;TZID=America/Chicago:20260708T100000
DTEND;TZID=America/Chicago:20260708T110000
DTSTAMP:20260419T140652
CREATED:20260330T194329Z
LAST-MODIFIED:20260330T194329Z
UID:989-1783504800-1783508400@lakeparkfriends.org
SUMMARY:Wednesday Walkers
DESCRIPTION:Lake Park is a gorgeous setting for a stroll. Come and gather with others for a weekly walk through the park. We’ll meet at the top of the Grand Staircase each Wednesday (Mid May to November) at 10:00 a.m. and then walk for about 30-45 minutes through the park. No need to sign up\, and there is no fee! Walk at your own pace. Bring a friend or neighbor\, make new friends\, and explore the park together! Leashed dogs are welcome\, too.
URL:https://lakeparkfriends.org/event/wednesday-walkers-21/
LOCATION:Marcia Coles Community Room\, 3133 E Newberry Blvd\, Milwaukee\, WI\, 53211\, United States
CATEGORIES:Wednesday Walkers
END:VEVENT
BEGIN:VEVENT
DTSTART;TZID=America/Chicago:20260715T100000
DTEND;TZID=America/Chicago:20260715T110000
DTSTAMP:20260419T140652
CREATED:20260330T194329Z
LAST-MODIFIED:20260330T194329Z
UID:988-1784109600-1784113200@lakeparkfriends.org
SUMMARY:Wednesday Walkers
DESCRIPTION:Lake Park is a gorgeous setting for a stroll. Come and gather with others for a weekly walk through the park. We’ll meet at the top of the Grand Staircase each Wednesday (Mid May to November) at 10:00 a.m. and then walk for about 30-45 minutes through the park. No need to sign up\, and there is no fee! Walk at your own pace. Bring a friend or neighbor\, make new friends\, and explore the park together! Leashed dogs are welcome\, too.
URL:https://lakeparkfriends.org/event/wednesday-walkers-20/
LOCATION:Marcia Coles Community Room\, 3133 E Newberry Blvd\, Milwaukee\, WI\, 53211\, United States
CATEGORIES:Wednesday Walkers
END:VEVENT
BEGIN:VEVENT
DTSTART;TZID=America/Chicago:20260722T100000
DTEND;TZID=America/Chicago:20260722T110000
DTSTAMP:20260419T140652
CREATED:20260330T194328Z
LAST-MODIFIED:20260330T194328Z
UID:987-1784714400-1784718000@lakeparkfriends.org
SUMMARY:Wednesday Walkers
DESCRIPTION:Lake Park is a gorgeous setting for a stroll. Come and gather with others for a weekly walk through the park. We’ll meet at the top of the Grand Staircase each Wednesday (Mid May to November) at 10:00 a.m. and then walk for about 30-45 minutes through the park. No need to sign up\, and there is no fee! Walk at your own pace. Bring a friend or neighbor\, make new friends\, and explore the park together! Leashed dogs are welcome\, too.
URL:https://lakeparkfriends.org/event/wednesday-walkers-19/
LOCATION:Marcia Coles Community Room\, 3133 E Newberry Blvd\, Milwaukee\, WI\, 53211\, United States
CATEGORIES:Wednesday Walkers
END:VEVENT
BEGIN:VEVENT
DTSTART;TZID=America/Chicago:20260729T100000
DTEND;TZID=America/Chicago:20260729T110000
DTSTAMP:20260419T140652
CREATED:20260330T194326Z
LAST-MODIFIED:20260330T194326Z
UID:986-1785319200-1785322800@lakeparkfriends.org
SUMMARY:Wednesday Walkers
DESCRIPTION:Lake Park is a gorgeous setting for a stroll. Come and gather with others for a weekly walk through the park. We’ll meet at the top of the Grand Staircase each Wednesday (Mid May to November) at 10:00 a.m. and then walk for about 30-45 minutes through the park. No need to sign up\, and there is no fee! Walk at your own pace. Bring a friend or neighbor\, make new friends\, and explore the park together! Leashed dogs are welcome\, too.
URL:https://lakeparkfriends.org/event/wednesday-walkers-18/
LOCATION:Marcia Coles Community Room\, 3133 E Newberry Blvd\, Milwaukee\, WI\, 53211\, United States
CATEGORIES:Wednesday Walkers
END:VEVENT
END:VCALENDAR