BEGIN:VCALENDAR
VERSION:2.0
PRODID:-//Lake Park Friends - ECPv6.15.20//NONSGML v1.0//EN
CALSCALE:GREGORIAN
METHOD:PUBLISH
X-WR-CALNAME:Lake Park Friends
X-ORIGINAL-URL:https://lakeparkfriends.org
X-WR-CALDESC:Events for Lake Park Friends
REFRESH-INTERVAL;VALUE=DURATION:PT1H
X-Robots-Tag:noindex
X-PUBLISHED-TTL:PT1H
BEGIN:VTIMEZONE
TZID:America/Chicago
BEGIN:DAYLIGHT
TZOFFSETFROM:-0600
TZOFFSETTO:-0500
TZNAME:CDT
DTSTART:20250309T080000
END:DAYLIGHT
BEGIN:STANDARD
TZOFFSETFROM:-0500
TZOFFSETTO:-0600
TZNAME:CST
DTSTART:20251102T070000
END:STANDARD
BEGIN:DAYLIGHT
TZOFFSETFROM:-0600
TZOFFSETTO:-0500
TZNAME:CDT
DTSTART:20260308T080000
END:DAYLIGHT
BEGIN:STANDARD
TZOFFSETFROM:-0500
TZOFFSETTO:-0600
TZNAME:CST
DTSTART:20261101T070000
END:STANDARD
BEGIN:DAYLIGHT
TZOFFSETFROM:-0600
TZOFFSETTO:-0500
TZNAME:CDT
DTSTART:20270314T080000
END:DAYLIGHT
BEGIN:STANDARD
TZOFFSETFROM:-0500
TZOFFSETTO:-0600
TZNAME:CST
DTSTART:20271107T070000
END:STANDARD
END:VTIMEZONE
BEGIN:VEVENT
DTSTART;TZID=America/Chicago:20260805T100000
DTEND;TZID=America/Chicago:20260805T110000
DTSTAMP:20260419T155422
CREATED:20260330T194315Z
LAST-MODIFIED:20260330T194315Z
UID:985-1785924000-1785927600@lakeparkfriends.org
SUMMARY:Wednesday Walkers
DESCRIPTION:Lake Park is a gorgeous setting for a stroll. Come and gather with others for a weekly walk through the park. We’ll meet at the top of the Grand Staircase each Wednesday (Mid May to November) at 10:00 a.m. and then walk for about 30-45 minutes through the park. No need to sign up\, and there is no fee! Walk at your own pace. Bring a friend or neighbor\, make new friends\, and explore the park together! Leashed dogs are welcome\, too.
URL:https://lakeparkfriends.org/event/wednesday-walkers-17/
LOCATION:Marcia Coles Community Room\, 3133 E Newberry Blvd\, Milwaukee\, WI\, 53211\, United States
CATEGORIES:Wednesday Walkers
END:VEVENT
BEGIN:VEVENT
DTSTART;TZID=America/Chicago:20260812T100000
DTEND;TZID=America/Chicago:20260812T110000
DTSTAMP:20260419T155422
CREATED:20260330T194314Z
LAST-MODIFIED:20260330T194314Z
UID:984-1786528800-1786532400@lakeparkfriends.org
SUMMARY:Wednesday Walkers
DESCRIPTION:Lake Park is a gorgeous setting for a stroll. Come and gather with others for a weekly walk through the park. We’ll meet at the top of the Grand Staircase each Wednesday (Mid May to November) at 10:00 a.m. and then walk for about 30-45 minutes through the park. No need to sign up\, and there is no fee! Walk at your own pace. Bring a friend or neighbor\, make new friends\, and explore the park together! Leashed dogs are welcome\, too.
URL:https://lakeparkfriends.org/event/wednesday-walkers-16/
LOCATION:Marcia Coles Community Room\, 3133 E Newberry Blvd\, Milwaukee\, WI\, 53211\, United States
CATEGORIES:Wednesday Walkers
END:VEVENT
BEGIN:VEVENT
DTSTART;TZID=America/Chicago:20260819T100000
DTEND;TZID=America/Chicago:20260819T110000
DTSTAMP:20260419T155422
CREATED:20260330T194313Z
LAST-MODIFIED:20260330T194313Z
UID:983-1787133600-1787137200@lakeparkfriends.org
SUMMARY:Wednesday Walkers
DESCRIPTION:Lake Park is a gorgeous setting for a stroll. Come and gather with others for a weekly walk through the park. We’ll meet at the top of the Grand Staircase each Wednesday (Mid May to November) at 10:00 a.m. and then walk for about 30-45 minutes through the park. No need to sign up\, and there is no fee! Walk at your own pace. Bring a friend or neighbor\, make new friends\, and explore the park together! Leashed dogs are welcome\, too.
URL:https://lakeparkfriends.org/event/wednesday-walkers-15/
LOCATION:Marcia Coles Community Room\, 3133 E Newberry Blvd\, Milwaukee\, WI\, 53211\, United States
CATEGORIES:Wednesday Walkers
END:VEVENT
BEGIN:VEVENT
DTSTART;TZID=America/Chicago:20260826T100000
DTEND;TZID=America/Chicago:20260826T110000
DTSTAMP:20260419T155422
CREATED:20260330T194312Z
LAST-MODIFIED:20260330T194312Z
UID:982-1787738400-1787742000@lakeparkfriends.org
SUMMARY:Wednesday Walkers
DESCRIPTION:Lake Park is a gorgeous setting for a stroll. Come and gather with others for a weekly walk through the park. We’ll meet at the top of the Grand Staircase each Wednesday (Mid May to November) at 10:00 a.m. and then walk for about 30-45 minutes through the park. No need to sign up\, and there is no fee! Walk at your own pace. Bring a friend or neighbor\, make new friends\, and explore the park together! Leashed dogs are welcome\, too.
URL:https://lakeparkfriends.org/event/wednesday-walkers-14/
LOCATION:Marcia Coles Community Room\, 3133 E Newberry Blvd\, Milwaukee\, WI\, 53211\, United States
CATEGORIES:Wednesday Walkers
END:VEVENT
END:VCALENDAR