BEGIN:VCALENDAR
VERSION:2.0
PRODID:-//Lake Park Friends - ECPv6.15.20//NONSGML v1.0//EN
CALSCALE:GREGORIAN
METHOD:PUBLISH
X-WR-CALNAME:Lake Park Friends
X-ORIGINAL-URL:https://lakeparkfriends.org
X-WR-CALDESC:Events for Lake Park Friends
REFRESH-INTERVAL;VALUE=DURATION:PT1H
X-Robots-Tag:noindex
X-PUBLISHED-TTL:PT1H
BEGIN:VTIMEZONE
TZID:America/Chicago
BEGIN:DAYLIGHT
TZOFFSETFROM:-0600
TZOFFSETTO:-0500
TZNAME:CDT
DTSTART:20250309T080000
END:DAYLIGHT
BEGIN:STANDARD
TZOFFSETFROM:-0500
TZOFFSETTO:-0600
TZNAME:CST
DTSTART:20251102T070000
END:STANDARD
BEGIN:DAYLIGHT
TZOFFSETFROM:-0600
TZOFFSETTO:-0500
TZNAME:CDT
DTSTART:20260308T080000
END:DAYLIGHT
BEGIN:STANDARD
TZOFFSETFROM:-0500
TZOFFSETTO:-0600
TZNAME:CST
DTSTART:20261101T070000
END:STANDARD
BEGIN:DAYLIGHT
TZOFFSETFROM:-0600
TZOFFSETTO:-0500
TZNAME:CDT
DTSTART:20270314T080000
END:DAYLIGHT
BEGIN:STANDARD
TZOFFSETFROM:-0500
TZOFFSETTO:-0600
TZNAME:CST
DTSTART:20271107T070000
END:STANDARD
END:VTIMEZONE
BEGIN:VEVENT
DTSTART;TZID=America/Chicago:20260902T100000
DTEND;TZID=America/Chicago:20260902T110000
DTSTAMP:20260419T171956
CREATED:20260330T194311Z
LAST-MODIFIED:20260330T194311Z
UID:981-1788343200-1788346800@lakeparkfriends.org
SUMMARY:Wednesday Walkers
DESCRIPTION:Lake Park is a gorgeous setting for a stroll. Come and gather with others for a weekly walk through the park. We’ll meet at the top of the Grand Staircase each Wednesday (Mid May to November) at 10:00 a.m. and then walk for about 30-45 minutes through the park. No need to sign up\, and there is no fee! Walk at your own pace. Bring a friend or neighbor\, make new friends\, and explore the park together! Leashed dogs are welcome\, too.
URL:https://lakeparkfriends.org/event/wednesday-walkers-13/
LOCATION:Marcia Coles Community Room\, 3133 E Newberry Blvd\, Milwaukee\, WI\, 53211\, United States
CATEGORIES:Wednesday Walkers
END:VEVENT
BEGIN:VEVENT
DTSTART;TZID=America/Chicago:20260909T100000
DTEND;TZID=America/Chicago:20260909T110000
DTSTAMP:20260419T171956
CREATED:20260330T194300Z
LAST-MODIFIED:20260330T194300Z
UID:980-1788948000-1788951600@lakeparkfriends.org
SUMMARY:Wednesday Walkers
DESCRIPTION:Lake Park is a gorgeous setting for a stroll. Come and gather with others for a weekly walk through the park. We’ll meet at the top of the Grand Staircase each Wednesday (Mid May to November) at 10:00 a.m. and then walk for about 30-45 minutes through the park. No need to sign up\, and there is no fee! Walk at your own pace. Bring a friend or neighbor\, make new friends\, and explore the park together! Leashed dogs are welcome\, too.
URL:https://lakeparkfriends.org/event/wednesday-walkers-12/
LOCATION:Marcia Coles Community Room\, 3133 E Newberry Blvd\, Milwaukee\, WI\, 53211\, United States
CATEGORIES:Wednesday Walkers
END:VEVENT
BEGIN:VEVENT
DTSTART;TZID=America/Chicago:20260916T100000
DTEND;TZID=America/Chicago:20260916T110000
DTSTAMP:20260419T171956
CREATED:20260330T194259Z
LAST-MODIFIED:20260330T194259Z
UID:979-1789552800-1789556400@lakeparkfriends.org
SUMMARY:Wednesday Walkers
DESCRIPTION:Lake Park is a gorgeous setting for a stroll. Come and gather with others for a weekly walk through the park. We’ll meet at the top of the Grand Staircase each Wednesday (Mid May to November) at 10:00 a.m. and then walk for about 30-45 minutes through the park. No need to sign up\, and there is no fee! Walk at your own pace. Bring a friend or neighbor\, make new friends\, and explore the park together! Leashed dogs are welcome\, too.
URL:https://lakeparkfriends.org/event/wednesday-walkers-11/
LOCATION:Marcia Coles Community Room\, 3133 E Newberry Blvd\, Milwaukee\, WI\, 53211\, United States
CATEGORIES:Wednesday Walkers
END:VEVENT
BEGIN:VEVENT
DTSTART;TZID=America/Chicago:20260923T100000
DTEND;TZID=America/Chicago:20260923T110000
DTSTAMP:20260419T171956
CREATED:20260330T194258Z
LAST-MODIFIED:20260330T194258Z
UID:978-1790157600-1790161200@lakeparkfriends.org
SUMMARY:Wednesday Walkers
DESCRIPTION:Lake Park is a gorgeous setting for a stroll. Come and gather with others for a weekly walk through the park. We’ll meet at the top of the Grand Staircase each Wednesday (Mid May to November) at 10:00 a.m. and then walk for about 30-45 minutes through the park. No need to sign up\, and there is no fee! Walk at your own pace. Bring a friend or neighbor\, make new friends\, and explore the park together! Leashed dogs are welcome\, too.
URL:https://lakeparkfriends.org/event/wednesday-walkers-10/
LOCATION:Marcia Coles Community Room\, 3133 E Newberry Blvd\, Milwaukee\, WI\, 53211\, United States
CATEGORIES:Wednesday Walkers
END:VEVENT
BEGIN:VEVENT
DTSTART;TZID=America/Chicago:20260930T100000
DTEND;TZID=America/Chicago:20260930T110000
DTSTAMP:20260419T171956
CREATED:20260330T194257Z
LAST-MODIFIED:20260330T194257Z
UID:977-1790762400-1790766000@lakeparkfriends.org
SUMMARY:Wednesday Walkers
DESCRIPTION:Lake Park is a gorgeous setting for a stroll. Come and gather with others for a weekly walk through the park. We’ll meet at the top of the Grand Staircase each Wednesday (Mid May to November) at 10:00 a.m. and then walk for about 30-45 minutes through the park. No need to sign up\, and there is no fee! Walk at your own pace. Bring a friend or neighbor\, make new friends\, and explore the park together! Leashed dogs are welcome\, too.
URL:https://lakeparkfriends.org/event/wednesday-walkers-9/
LOCATION:Marcia Coles Community Room\, 3133 E Newberry Blvd\, Milwaukee\, WI\, 53211\, United States
CATEGORIES:Wednesday Walkers
END:VEVENT
END:VCALENDAR