BEGIN:VCALENDAR
VERSION:2.0
PRODID:-//Lake Park Friends - ECPv6.15.20//NONSGML v1.0//EN
CALSCALE:GREGORIAN
METHOD:PUBLISH
X-ORIGINAL-URL:https://lakeparkfriends.org
X-WR-CALDESC:Events for Lake Park Friends
REFRESH-INTERVAL;VALUE=DURATION:PT1H
X-Robots-Tag:noindex
X-PUBLISHED-TTL:PT1H
BEGIN:VTIMEZONE
TZID:America/Chicago
BEGIN:DAYLIGHT
TZOFFSETFROM:-0600
TZOFFSETTO:-0500
TZNAME:CDT
DTSTART:20240310T080000
END:DAYLIGHT
BEGIN:STANDARD
TZOFFSETFROM:-0500
TZOFFSETTO:-0600
TZNAME:CST
DTSTART:20241103T070000
END:STANDARD
BEGIN:DAYLIGHT
TZOFFSETFROM:-0600
TZOFFSETTO:-0500
TZNAME:CDT
DTSTART:20250309T080000
END:DAYLIGHT
BEGIN:STANDARD
TZOFFSETFROM:-0500
TZOFFSETTO:-0600
TZNAME:CST
DTSTART:20251102T070000
END:STANDARD
BEGIN:DAYLIGHT
TZOFFSETFROM:-0600
TZOFFSETTO:-0500
TZNAME:CDT
DTSTART:20260308T080000
END:DAYLIGHT
BEGIN:STANDARD
TZOFFSETFROM:-0500
TZOFFSETTO:-0600
TZNAME:CST
DTSTART:20261101T070000
END:STANDARD
END:VTIMEZONE
BEGIN:VEVENT
DTSTART;TZID=America/Chicago:20250723T183000
DTEND;TZID=America/Chicago:20250723T193000
DTSTAMP:20260420T062330
CREATED:20260330T194359Z
LAST-MODIFIED:20260330T194359Z
UID:999-1753295400-1753299000@lakeparkfriends.org
SUMMARY:Wonderful Wednesdays – Yid Vicious
DESCRIPTION:YID VICIOUS. Engaging and delighting audiences for thirty years\, this group brings the party to life with lively Yiddish folk dance music spanning generations from the Old World to our world. \nFor all concert info\, see our Music in the Park page.
URL:https://lakeparkfriends.org/event/wonderful-wednesdays-yid-vicious/
LOCATION:Lake Park Summer Stage\, 2975 N Lake Park Rd\, Milwaukee\, WI\, 53211\, United States
CATEGORIES:Wonderful Wednesdays
END:VEVENT
END:VCALENDAR