BEGIN:VCALENDAR
VERSION:2.0
PRODID:-//Lake Park Friends - ECPv6.15.20//NONSGML v1.0//EN
CALSCALE:GREGORIAN
METHOD:PUBLISH
X-WR-CALNAME:Lake Park Friends
X-ORIGINAL-URL:https://lakeparkfriends.org
X-WR-CALDESC:Events for Lake Park Friends
REFRESH-INTERVAL;VALUE=DURATION:PT1H
X-Robots-Tag:noindex
X-PUBLISHED-TTL:PT1H
BEGIN:VTIMEZONE
TZID:America/Chicago
BEGIN:DAYLIGHT
TZOFFSETFROM:-0600
TZOFFSETTO:-0500
TZNAME:CDT
DTSTART:20200308T080000
END:DAYLIGHT
BEGIN:STANDARD
TZOFFSETFROM:-0500
TZOFFSETTO:-0600
TZNAME:CST
DTSTART:20201101T070000
END:STANDARD
BEGIN:DAYLIGHT
TZOFFSETFROM:-0600
TZOFFSETTO:-0500
TZNAME:CDT
DTSTART:20210314T080000
END:DAYLIGHT
BEGIN:STANDARD
TZOFFSETFROM:-0500
TZOFFSETTO:-0600
TZNAME:CST
DTSTART:20211107T070000
END:STANDARD
BEGIN:DAYLIGHT
TZOFFSETFROM:-0600
TZOFFSETTO:-0500
TZNAME:CDT
DTSTART:20220313T080000
END:DAYLIGHT
BEGIN:STANDARD
TZOFFSETFROM:-0500
TZOFFSETTO:-0600
TZNAME:CST
DTSTART:20221106T070000
END:STANDARD
END:VTIMEZONE
BEGIN:VEVENT
DTSTART;TZID=America/Chicago:20210704T090000
DTEND;TZID=America/Chicago:20210704T220000
DTSTAMP:20260423T044546
CREATED:20260330T193929Z
LAST-MODIFIED:20260330T193929Z
UID:910-1625389200-1625436000@lakeparkfriends.org
SUMMARY:July 4th in Lake Park
DESCRIPTION:For all information regarding July 4th festivities in Lake Park\, visit the City of Milwaukee Fourth of July Commission’s website.
URL:https://lakeparkfriends.org/event/july-4th-in-lake-park-16/
LOCATION:WI
CATEGORIES:Holidays
END:VEVENT
BEGIN:VEVENT
DTSTART;VALUE=DATE:20210722
DTEND;VALUE=DATE:20210723
DTSTAMP:20260423T044546
CREATED:20260330T194059Z
LAST-MODIFIED:20260330T194059Z
UID:940-1626912000-1626998399@lakeparkfriends.org
SUMMARY:National Hammock Day
DESCRIPTION:National Hammock Day is celebrated every year on July 22 to commemorate the universal symbol for relaxation. There are lots of places in Lake Park to set up your hammock for the day!
URL:https://lakeparkfriends.org/event/national-hammock-day-16/
LOCATION:WI
END:VEVENT
END:VCALENDAR