BEGIN:VCALENDAR
VERSION:2.0
PRODID:-//Lake Park Friends - ECPv6.15.20//NONSGML v1.0//EN
CALSCALE:GREGORIAN
METHOD:PUBLISH
X-ORIGINAL-URL:https://lakeparkfriends.org
X-WR-CALDESC:Events for Lake Park Friends
REFRESH-INTERVAL;VALUE=DURATION:PT1H
X-Robots-Tag:noindex
X-PUBLISHED-TTL:PT1H
BEGIN:VTIMEZONE
TZID:America/Chicago
BEGIN:DAYLIGHT
TZOFFSETFROM:-0600
TZOFFSETTO:-0500
TZNAME:CDT
DTSTART:20240310T080000
END:DAYLIGHT
BEGIN:STANDARD
TZOFFSETFROM:-0500
TZOFFSETTO:-0600
TZNAME:CST
DTSTART:20241103T070000
END:STANDARD
BEGIN:DAYLIGHT
TZOFFSETFROM:-0600
TZOFFSETTO:-0500
TZNAME:CDT
DTSTART:20250309T080000
END:DAYLIGHT
BEGIN:STANDARD
TZOFFSETFROM:-0500
TZOFFSETTO:-0600
TZNAME:CST
DTSTART:20251102T070000
END:STANDARD
BEGIN:DAYLIGHT
TZOFFSETFROM:-0600
TZOFFSETTO:-0500
TZNAME:CDT
DTSTART:20260308T080000
END:DAYLIGHT
BEGIN:STANDARD
TZOFFSETFROM:-0500
TZOFFSETTO:-0600
TZNAME:CST
DTSTART:20261101T070000
END:STANDARD
END:VTIMEZONE
BEGIN:VEVENT
DTSTART;TZID=America/Chicago:20250721T160000
DTEND;TZID=America/Chicago:20250804T210000
DTSTAMP:20260419T235508
CREATED:20260330T194228Z
LAST-MODIFIED:20260330T194228Z
UID:968-1753113600-1754341200@lakeparkfriends.org
SUMMARY:Traveling Beer Garden
DESCRIPTION:The Milwaukee County Parks a href=”#” target=”_blank”>Traveling Beer Garden returns to Lake Park from Monday\, July 21 to Monday\, August 4 (closed on Tuesday\, July 22). They offer an ever-changing selection of craft beers\, sours\, craft sodas (including their famous root beer) and non-alcoholic beverages\, too. \nFood available includes hot dogs\, brats\, nachos and more! \nIn addition\, for more food options\, you can stop by the Beto’s Backed Potatoes Food Truck! \nHours are 5-9 pm on weekdays and 11 am-9 pm on weekends. \nAlso\, Alt Dog Runs will be coming out to the Lake Park beer garden. \nYou and your pups can find them with their lure course. Come enjoy the park with your family\, friends and pups and enjoy some cold brews with us! \n$10 per run per dog\, dogs **second run $5 \n** must be at least 15 minutes of break between runs** If there is inclement weather the beer garden closes and we do not bring our equipment. \nThey will be at Lake Park on: \nThursday 7/24 – Lake Park – 4-8pm\nand\nWednesday 7/30 – Lake Park – 4-8pm \nArts & Hops Event — Come see and support 20-30 vendors and makers who will be set up at the Lake Park Traveling Beer Garden on Sat/Sun July 26 & 27 from 11 a.m. to 5 p.m.
URL:https://lakeparkfriends.org/event/traveling-beer-garden/
LOCATION:Lake Park Friends Office (Public Restrooms)\, 2975 N Lake Park Rd\, Milwaukee\, WI\, 53211\, United States
CATEGORIES:Traveling Beer Garden
END:VEVENT
BEGIN:VEVENT
DTSTART;TZID=America/Chicago:20250802T130000
DTEND;TZID=America/Chicago:20250802T193000
DTSTAMP:20260419T235508
CREATED:20260330T194227Z
LAST-MODIFIED:20260330T194227Z
UID:967-1754139600-1754163000@lakeparkfriends.org
SUMMARY:Shakespeare in the City
DESCRIPTION:Optimist Theatre is bringing Shakespeare back to Lake Park! Details about the Lake Park performance can be found here. A full afternoon of activities including a puppet show\, themed games\, a performance by Early Music Now and an evening show of Taming of the Shrew. New location: under the shade trees near the ball diamond. For all other Shakespeare in the Park locations and more information\, click here.
URL:https://lakeparkfriends.org/event/shakespeare-in-the-city/
LOCATION:Picnic Area #4 (Near ball diamond)\, Milwaukee\, WI\, 53211\, United States
CATEGORIES:Shakespeare in the Park
END:VEVENT
BEGIN:VEVENT
DTSTART;TZID=America/Chicago:20250804T183000
DTEND;TZID=America/Chicago:20250804T200000
DTSTAMP:20260419T235508
CREATED:20260330T194015Z
LAST-MODIFIED:20260330T194015Z
UID:924-1754332200-1754337600@lakeparkfriends.org
SUMMARY:Musical Mondays – The Kentucky Gentlemen
DESCRIPTION:THE KENTUCKY GENTLEMEN. With smooth harmonies and a sound that fuses country storytelling with R&B swagger and pop sensibility\, The Kentucky Gentlemen\, are led by Bourbon Country twins Derek and Brandon Campbell. The brothers are rewriting the rules of country music and have performed with The Black Opry and been recognized by GLADD as “New Voices in Country.” \nFor all concert info\, see our Music in the Park page.
URL:https://lakeparkfriends.org/event/musical-mondays-the-kentucky-gentlemen/
LOCATION:Lake Park Summer Stage\, 2975 N Lake Park Rd\, Milwaukee\, WI\, 53211\, United States
CATEGORIES:Musical Mondays
END:VEVENT
BEGIN:VEVENT
DTSTART;TZID=America/Chicago:20250808T203000
DTEND;TZID=America/Chicago:20250808T220000
DTSTAMP:20260419T235508
CREATED:20260330T193830Z
LAST-MODIFIED:20260330T193830Z
UID:890-1754685000-1754690400@lakeparkfriends.org
SUMMARY:Free Friday Night Flicks – Airplane!
DESCRIPTION:2025 is the year of cult films. These are movies that fans are endlessly passionate about and want to see as often as possible. We’re adding a bonus film this summer.  1980 Airplane! has always been a favorite laughfest\, particularly in Milwaukee\, because it was written and directed by native son Jim Abrahams and brothers David and Jerry Zucker. Surely\, you don’t want to miss this one. Rated PG. \nBring lawn chairs\, blankets\, drinks and snacks. Popcorn will be provided. Admission free. Movie begins at dusk.
URL:https://lakeparkfriends.org/event/free-friday-night-flicks-airplane/
LOCATION:Lake Park Summer Stage\, 2975 N Lake Park Rd\, Milwaukee\, WI\, 53211\, United States
CATEGORIES:Free Friday Night Flicks
END:VEVENT
BEGIN:VEVENT
DTSTART;TZID=America/Chicago:20250811T183000
DTEND;TZID=America/Chicago:20250811T200000
DTSTAMP:20260419T235508
CREATED:20260330T193959Z
LAST-MODIFIED:20260330T193959Z
UID:919-1754937000-1754942400@lakeparkfriends.org
SUMMARY:Musical Mondays – Dwayne Dopsie and the Zydeco Hellraisers
DESCRIPTION:DWAYNE DOPSIE AND THE ZYDECO HELLRAISERS. Hailing from one of the most influential Zydeco families in the world\, Dwayne (Dopsie) Rubin has been bringing his own high-octane version of this danceable artform to audiences around the world since debuting his own band at age 19. \nFor all concert info\, see our Music in the Park page.
URL:https://lakeparkfriends.org/event/musical-mondays-dwayne-dopsie-and-the-zydeco-hellraisers/
LOCATION:Lake Park Summer Stage\, 2975 N Lake Park Rd\, Milwaukee\, WI\, 53211\, United States
CATEGORIES:Musical Mondays
END:VEVENT
BEGIN:VEVENT
DTSTART;TZID=America/Chicago:20250818T183000
DTEND;TZID=America/Chicago:20250818T200000
DTSTAMP:20260419T235508
CREATED:20260330T194000Z
LAST-MODIFIED:20260330T194000Z
UID:920-1755541800-1755547200@lakeparkfriends.org
SUMMARY:Musical Mondays – Laura Rain and the Caesars
DESCRIPTION:LAURA RAIN AND THE CAESARS. A proud product of the Motor City\, hard-driving singer Laura Rain and her hot band pump out soul\, R&B and funk originals worthy of the many greats hailing from Detroit\, with fearless emotion and excitement. \nFor all concert info\, see our Music in the Park page.
URL:https://lakeparkfriends.org/event/musical-mondays-laura-rain-and-the-caesars/
LOCATION:Lake Park Summer Stage\, 2975 N Lake Park Rd\, Milwaukee\, WI\, 53211\, United States
CATEGORIES:Musical Mondays
END:VEVENT
BEGIN:VEVENT
DTSTART;TZID=America/Chicago:20250825T183000
DTEND;TZID=America/Chicago:20250825T200000
DTSTAMP:20260419T235508
CREATED:20260330T194012Z
LAST-MODIFIED:20260330T194012Z
UID:922-1756146600-1756152000@lakeparkfriends.org
SUMMARY:Musical Mondays – R&B Cadets
DESCRIPTION:R&B CADETS. Milwaukee’s popular and longest running supergroup\, the R&B Cadets play their unique signature mix of danceable originals and obscure covers\, fronted by some of the city’s most cherished voices – Paul Cebar\, Robin Pluer and John Sieger. \nFor all concert info\, see our Music in the Park page.
URL:https://lakeparkfriends.org/event/musical-mondays-rb-cadets/
LOCATION:Lake Park Summer Stage\, 2975 N Lake Park Rd\, Milwaukee\, WI\, 53211\, United States
CATEGORIES:Musical Mondays
END:VEVENT
BEGIN:VEVENT
DTSTART;TZID=America/Chicago:20250829T200000
DTEND;TZID=America/Chicago:20250829T213000
DTSTAMP:20260419T235508
CREATED:20260330T193843Z
LAST-MODIFIED:20260330T193843Z
UID:893-1756497600-1756503000@lakeparkfriends.org
SUMMARY:Free Friday Night Flicks – The Princess Bride
DESCRIPTION:2025 is the year of cult films. These are movies that fans are endlessly passionate about and want to see as often as possible. The Princess Bride is Rob Reiner’s 1987 film about pirates\, revenge\, love and rodents of unusual size. The movie has launched a thousand quotes and has earned a place on countless favorite movie lists. Rated PG. \nBring lawn chairs\, blankets\, drinks and snacks. Popcorn will be provided. Admission free. Movie begins at dusk.
URL:https://lakeparkfriends.org/event/free-friday-night-flicks-the-princess-bride/
LOCATION:Lake Park Summer Stage\, 2975 N Lake Park Rd\, Milwaukee\, WI\, 53211\, United States
CATEGORIES:Free Friday Night Flicks
END:VEVENT
END:VCALENDAR