BEGIN:VCALENDAR
VERSION:2.0
PRODID:-//Lake Park Friends - ECPv6.15.20//NONSGML v1.0//EN
CALSCALE:GREGORIAN
METHOD:PUBLISH
X-WR-CALNAME:Lake Park Friends
X-ORIGINAL-URL:https://lakeparkfriends.org
X-WR-CALDESC:Events for Lake Park Friends
REFRESH-INTERVAL;VALUE=DURATION:PT1H
X-Robots-Tag:noindex
X-PUBLISHED-TTL:PT1H
BEGIN:VTIMEZONE
TZID:America/Chicago
BEGIN:DAYLIGHT
TZOFFSETFROM:-0600
TZOFFSETTO:-0500
TZNAME:CDT
DTSTART:20240310T080000
END:DAYLIGHT
BEGIN:STANDARD
TZOFFSETFROM:-0500
TZOFFSETTO:-0600
TZNAME:CST
DTSTART:20241103T070000
END:STANDARD
BEGIN:DAYLIGHT
TZOFFSETFROM:-0600
TZOFFSETTO:-0500
TZNAME:CDT
DTSTART:20250309T080000
END:DAYLIGHT
BEGIN:STANDARD
TZOFFSETFROM:-0500
TZOFFSETTO:-0600
TZNAME:CST
DTSTART:20251102T070000
END:STANDARD
BEGIN:DAYLIGHT
TZOFFSETFROM:-0600
TZOFFSETTO:-0500
TZNAME:CDT
DTSTART:20260308T080000
END:DAYLIGHT
BEGIN:STANDARD
TZOFFSETFROM:-0500
TZOFFSETTO:-0600
TZNAME:CST
DTSTART:20261101T070000
END:STANDARD
END:VTIMEZONE
BEGIN:VEVENT
DTSTART;TZID=America/Chicago:20250906T180000
DTEND;TZID=America/Chicago:20250906T210000
DTSTAMP:20260419T222027
CREATED:20260330T193203Z
LAST-MODIFIED:20260330T193203Z
UID:768-1757181600-1757192400@lakeparkfriends.org
SUMMARY:Cirque du Lake Park 2025
DESCRIPTION:As a community\, we are driven by how much we have achieved in the park and by the incredible\, but exciting\, challenges we must still address. This annual fundraising event is the centerpiece of our effort to protect and to grow what is the crown jewel of our parks system. Click here for all details regarding Cirque.
URL:https://lakeparkfriends.org/event/cirque-du-lake-park-2025/
LOCATION:WI
CATEGORIES:Cirque du Lake Park
END:VEVENT
BEGIN:VEVENT
DTSTART;VALUE=DATE:20250922
DTEND;VALUE=DATE:20250923
DTSTAMP:20260419T222027
CREATED:20260330T193457Z
LAST-MODIFIED:20260330T193457Z
UID:817-1758499200-1758585599@lakeparkfriends.org
SUMMARY:First Day of Autumn
DESCRIPTION:
URL:https://lakeparkfriends.org/event/first-day-of-autumn-12/
LOCATION:WI
END:VEVENT
BEGIN:VEVENT
DTSTART;TZID=America/Chicago:20250926T190000
DTEND;TZID=America/Chicago:20250926T203000
DTSTAMP:20260419T222027
CREATED:20260330T193841Z
LAST-MODIFIED:20260330T193841Z
UID:891-1758913200-1758918600@lakeparkfriends.org
SUMMARY:Free Friday Night Flicks – The Birds
DESCRIPTION:2025 is the year of cult films. These are movies that fans are endlessly passionate about and want to see as often as possible. The Birds – You haven’t seen Alfred Hitchcock’s film about the original angry birds until you’ve seen it at night under the stars. Hitchcock does for birds in this 1963 classic what he did for showers in “Psycho” in 1960. Rated PG-13. \nBring lawn chairs\, blankets\, drinks and snacks. Popcorn will be provided. Admission free. Movie begins at dusk.
URL:https://lakeparkfriends.org/event/free-friday-night-flicks-the-birds/
LOCATION:Lake Park Summer Stage\, 2975 N Lake Park Rd\, Milwaukee\, WI\, 53211\, United States
CATEGORIES:Free Friday Night Flicks
END:VEVENT
BEGIN:VEVENT
DTSTART;TZID=America/Chicago:20250927T090000
DTEND;TZID=America/Chicago:20250927T100000
DTSTAMP:20260419T222027
CREATED:20260330T193956Z
LAST-MODIFIED:20260330T193956Z
UID:916-1758963600-1758967200@lakeparkfriends.org
SUMMARY:Lake Park Reads (Book Club)
DESCRIPTION:Our next selection is Changes in the Land: Indians\, Colonists and the Ecology of the Lands written by William Cronon in 2003. Participants are invited to discuss the book on Saturday\, September 27\, 9am – 10am via Zoom. \nAs always\, Changes in the Land is available at Boswell Books on Downer Avenue in the Neighborhood Book Club section. \nTo be in our book club\, you must be a member in good standing. Email lakeparkfriends@sbcglobal.net\, if you are interested in joining book club.
URL:https://lakeparkfriends.org/event/lake-park-reads-book-club/
LOCATION:Lake Park\, 2975 N Lake Park Rd\, Milwaukee\, WI\, 53211\, United States
CATEGORIES:Lake Park Reads
END:VEVENT
END:VCALENDAR