BEGIN:VCALENDAR
VERSION:2.0
PRODID:-//Lake Park Friends - ECPv6.15.20//NONSGML v1.0//EN
CALSCALE:GREGORIAN
METHOD:PUBLISH
X-WR-CALNAME:Lake Park Friends
X-ORIGINAL-URL:https://lakeparkfriends.org
X-WR-CALDESC:Events for Lake Park Friends
REFRESH-INTERVAL;VALUE=DURATION:PT1H
X-Robots-Tag:noindex
X-PUBLISHED-TTL:PT1H
BEGIN:VTIMEZONE
TZID:America/Chicago
BEGIN:DAYLIGHT
TZOFFSETFROM:-0600
TZOFFSETTO:-0500
TZNAME:CDT
DTSTART:20220313T080000
END:DAYLIGHT
BEGIN:STANDARD
TZOFFSETFROM:-0500
TZOFFSETTO:-0600
TZNAME:CST
DTSTART:20221106T070000
END:STANDARD
BEGIN:DAYLIGHT
TZOFFSETFROM:-0600
TZOFFSETTO:-0500
TZNAME:CDT
DTSTART:20230312T080000
END:DAYLIGHT
BEGIN:STANDARD
TZOFFSETFROM:-0500
TZOFFSETTO:-0600
TZNAME:CST
DTSTART:20231105T070000
END:STANDARD
BEGIN:DAYLIGHT
TZOFFSETFROM:-0600
TZOFFSETTO:-0500
TZNAME:CDT
DTSTART:20240310T080000
END:DAYLIGHT
BEGIN:STANDARD
TZOFFSETFROM:-0500
TZOFFSETTO:-0600
TZNAME:CST
DTSTART:20241103T070000
END:STANDARD
END:VTIMEZONE
BEGIN:VEVENT
DTSTART;VALUE=DATE:20230406
DTEND;VALUE=DATE:20230407
DTSTAMP:20260421T175201
CREATED:20260330T194158Z
LAST-MODIFIED:20260330T194158Z
UID:959-1680739200-1680825599@lakeparkfriends.org
SUMMARY:National Walking Day
DESCRIPTION:The first Wednesday in April is known as NATIONAL WALKING DAY. It encourages people to get out\, stretch their legs and get the hearts pumping. Why not get out and stretch your legs and get your heart pumping in Lake Park today?
URL:https://lakeparkfriends.org/event/national-walking-day-14/
LOCATION:WI
CATEGORIES:Holidays
END:VEVENT
BEGIN:VEVENT
DTSTART;VALUE=DATE:20230422
DTEND;VALUE=DATE:20230423
DTSTAMP:20260421T175201
CREATED:20260330T193332Z
LAST-MODIFIED:20260330T193332Z
UID:798-1682121600-1682207999@lakeparkfriends.org
SUMMARY:Earth Day
DESCRIPTION:Happy Earth Day! Find some time today\, or in the next couple of days\, to visit Lake Park and be inspired by its history and beauty. Have your spirit renewed and join the 1 billion people in 190 countries who are taking action for Earth Day!
URL:https://lakeparkfriends.org/event/earth-day-14/
LOCATION:WI
CATEGORIES:Holidays
END:VEVENT
BEGIN:VEVENT
DTSTART;VALUE=DATE:20230426
DTEND;VALUE=DATE:20230427
DTSTAMP:20260421T175201
CREATED:20260330T193812Z
LAST-MODIFIED:20260330T193812Z
UID:882-1682467200-1682553599@lakeparkfriends.org
SUMMARY:Frederick Law Olmsted’s Birthday
DESCRIPTION:Today\, we recognized the 199th birthday of the Father of Landscape Architecture\, and the designer of Lake Park\, Frederick Law Olmsted. To learn more about his life\, click here.
URL:https://lakeparkfriends.org/event/frederick-law-olmsteds-birthday-14/
LOCATION:WI
CATEGORIES:Holidays
END:VEVENT
BEGIN:VEVENT
DTSTART;VALUE=DATE:20230429
DTEND;VALUE=DATE:20230430
DTSTAMP:20260421T175201
CREATED:20260330T193033Z
LAST-MODIFIED:20260330T193033Z
UID:739-1682726400-1682812799@lakeparkfriends.org
SUMMARY:Arbor Day
DESCRIPTION:Plant a tree\, save a tree or come to Lake Park and walk among the trees!
URL:https://lakeparkfriends.org/event/arbor-day-14/
LOCATION:WI
CATEGORIES:Holidays
END:VEVENT
END:VCALENDAR