BEGIN:VCALENDAR
VERSION:2.0
PRODID:-//Lake Park Friends - ECPv6.15.20//NONSGML v1.0//EN
CALSCALE:GREGORIAN
METHOD:PUBLISH
X-WR-CALNAME:Lake Park Friends
X-ORIGINAL-URL:https://lakeparkfriends.org
X-WR-CALDESC:Events for Lake Park Friends
REFRESH-INTERVAL;VALUE=DURATION:PT1H
X-Robots-Tag:noindex
X-PUBLISHED-TTL:PT1H
BEGIN:VTIMEZONE
TZID:America/Chicago
BEGIN:DAYLIGHT
TZOFFSETFROM:-0600
TZOFFSETTO:-0500
TZNAME:CDT
DTSTART:20240310T080000
END:DAYLIGHT
BEGIN:STANDARD
TZOFFSETFROM:-0500
TZOFFSETTO:-0600
TZNAME:CST
DTSTART:20241103T070000
END:STANDARD
BEGIN:DAYLIGHT
TZOFFSETFROM:-0600
TZOFFSETTO:-0500
TZNAME:CDT
DTSTART:20250309T080000
END:DAYLIGHT
BEGIN:STANDARD
TZOFFSETFROM:-0500
TZOFFSETTO:-0600
TZNAME:CST
DTSTART:20251102T070000
END:STANDARD
BEGIN:DAYLIGHT
TZOFFSETFROM:-0600
TZOFFSETTO:-0500
TZNAME:CDT
DTSTART:20260308T080000
END:DAYLIGHT
BEGIN:STANDARD
TZOFFSETFROM:-0500
TZOFFSETTO:-0600
TZNAME:CST
DTSTART:20261101T070000
END:STANDARD
END:VTIMEZONE
BEGIN:VEVENT
DTSTART;VALUE=DATE:20250620
DTEND;VALUE=DATE:20250621
DTSTAMP:20260420T030050
CREATED:20260330T193557Z
LAST-MODIFIED:20260330T193557Z
UID:838-1750377600-1750463999@lakeparkfriends.org
SUMMARY:First Day of Summer
DESCRIPTION:
URL:https://lakeparkfriends.org/event/first-day-of-summer-12/
LOCATION:WI
END:VEVENT
BEGIN:VEVENT
DTSTART;TZID=America/Chicago:20250627T203000
DTEND;TZID=America/Chicago:20250627T220000
DTSTAMP:20260420T030050
CREATED:20260330T193842Z
LAST-MODIFIED:20260330T193842Z
UID:892-1751056200-1751061600@lakeparkfriends.org
SUMMARY:Free Friday Night Flicks – The Greatest Showman
DESCRIPTION:2025 is the year of cult films. These are movies that fans are endlessly passionate about and want to see as often as possible. The movie season begins with The Greatest Showman – a fictionalized 2017 musical depiction of the life of P.T. Barnum\, the showman who created the Barnum & Bailey Circus\, and its star attractions. The movie stars Hugh Jackman and Zac Efron. Rated PG. \nBring lawn chairs\, blankets\, drinks and snacks. Popcorn will be provided. Admission free. Movie begins at dusk.
URL:https://lakeparkfriends.org/event/free-friday-night-flicks-the-greatest-showman/
LOCATION:Lake Park Summer Stage\, 2975 N Lake Park Rd\, Milwaukee\, WI\, 53211\, United States
CATEGORIES:Free Friday Night Flicks
END:VEVENT
END:VCALENDAR