BEGIN:VCALENDAR
VERSION:2.0
PRODID:-//Lake Park Friends - ECPv6.15.20//NONSGML v1.0//EN
CALSCALE:GREGORIAN
METHOD:PUBLISH
X-ORIGINAL-URL:https://lakeparkfriends.org
X-WR-CALDESC:Events for Lake Park Friends
REFRESH-INTERVAL;VALUE=DURATION:PT1H
X-Robots-Tag:noindex
X-PUBLISHED-TTL:PT1H
BEGIN:VTIMEZONE
TZID:America/Chicago
BEGIN:DAYLIGHT
TZOFFSETFROM:-0600
TZOFFSETTO:-0500
TZNAME:CDT
DTSTART:20250309T080000
END:DAYLIGHT
BEGIN:STANDARD
TZOFFSETFROM:-0500
TZOFFSETTO:-0600
TZNAME:CST
DTSTART:20251102T070000
END:STANDARD
BEGIN:DAYLIGHT
TZOFFSETFROM:-0600
TZOFFSETTO:-0500
TZNAME:CDT
DTSTART:20260308T080000
END:DAYLIGHT
BEGIN:STANDARD
TZOFFSETFROM:-0500
TZOFFSETTO:-0600
TZNAME:CST
DTSTART:20261101T070000
END:STANDARD
BEGIN:DAYLIGHT
TZOFFSETFROM:-0600
TZOFFSETTO:-0500
TZNAME:CDT
DTSTART:20270314T080000
END:DAYLIGHT
BEGIN:STANDARD
TZOFFSETFROM:-0500
TZOFFSETTO:-0600
TZNAME:CST
DTSTART:20271107T070000
END:STANDARD
END:VTIMEZONE
BEGIN:VEVENT
DTSTART;TZID=America/Chicago:20261104T100000
DTEND;TZID=America/Chicago:20261104T110000
DTSTAMP:20260419T223800
CREATED:20260330T194242Z
LAST-MODIFIED:20260330T194242Z
UID:972-1793786400-1793790000@lakeparkfriends.org
SUMMARY:Wednesday Walkers
DESCRIPTION:Lake Park is a gorgeous setting for a stroll. Come and gather with others for a weekly walk through the park. We’ll meet at the top of the Grand Staircase each Wednesday (Mid May to November) at 10:00 a.m. and then walk for about 30-45 minutes through the park. No need to sign up\, and there is no fee! Walk at your own pace. Bring a friend or neighbor\, make new friends\, and explore the park together! Leashed dogs are welcome\, too.
URL:https://lakeparkfriends.org/event/wednesday-walkers-4/
LOCATION:Marcia Coles Community Room\, 3133 E Newberry Blvd\, Milwaukee\, WI\, 53211\, United States
CATEGORIES:Wednesday Walkers
END:VEVENT
BEGIN:VEVENT
DTSTART;TZID=America/Chicago:20261111T100000
DTEND;TZID=America/Chicago:20261111T110000
DTSTAMP:20260419T223800
CREATED:20260330T194241Z
LAST-MODIFIED:20260330T194241Z
UID:971-1794391200-1794394800@lakeparkfriends.org
SUMMARY:Wednesday Walkers
DESCRIPTION:Lake Park is a gorgeous setting for a stroll. Come and gather with others for a weekly walk through the park. We’ll meet at the top of the Grand Staircase each Wednesday (Mid May to November) at 10:00 a.m. and then walk for about 30-45 minutes through the park. No need to sign up\, and there is no fee! Walk at your own pace. Bring a friend or neighbor\, make new friends\, and explore the park together! Leashed dogs are welcome\, too.
URL:https://lakeparkfriends.org/event/wednesday-walkers-3/
LOCATION:Marcia Coles Community Room\, 3133 E Newberry Blvd\, Milwaukee\, WI\, 53211\, United States
CATEGORIES:Wednesday Walkers
END:VEVENT
BEGIN:VEVENT
DTSTART;TZID=America/Chicago:20261114T110000
DTEND;TZID=America/Chicago:20261114T130000
DTSTAMP:20260419T223800
CREATED:20260330T193204Z
LAST-MODIFIED:20260330T193204Z
UID:769-1794654000-1794661200@lakeparkfriends.org
SUMMARY:Duck Watch
DESCRIPTION:Mark your calendar for the Lake Park Birders Duck Watches.  We gather on the lakeshore just north of Bradford Beach at 11 a.m. on the second Saturday of each month from November through March. After spending time observing waterfowl on the lake\, we will caravan to nearby areas for more birding\, depending on current bird reports.  If you have a scope\, be sure to bring it along. Dress for the weather.
URL:https://lakeparkfriends.org/event/duck-watch/
LOCATION:North of Bradford Beach\, Milwaukee\, WI\, 53211\, United States
CATEGORIES:Duck Watch
END:VEVENT
BEGIN:VEVENT
DTSTART;TZID=America/Chicago:20261118T100000
DTEND;TZID=America/Chicago:20261118T110000
DTSTAMP:20260419T223800
CREATED:20260330T194230Z
LAST-MODIFIED:20260330T194230Z
UID:970-1794996000-1794999600@lakeparkfriends.org
SUMMARY:Wednesday Walkers
DESCRIPTION:Lake Park is a gorgeous setting for a stroll. Come and gather with others for a weekly walk through the park. We’ll meet at the top of the Grand Staircase each Wednesday (Mid May to November) at 10:00 a.m. and then walk for about 30-45 minutes through the park. No need to sign up\, and there is no fee! Walk at your own pace. Bring a friend or neighbor\, make new friends\, and explore the park together! Leashed dogs are welcome\, too.
URL:https://lakeparkfriends.org/event/wednesday-walkers-2/
LOCATION:Marcia Coles Community Room\, 3133 E Newberry Blvd\, Milwaukee\, WI\, 53211\, United States
CATEGORIES:Wednesday Walkers
END:VEVENT
BEGIN:VEVENT
DTSTART;TZID=America/Chicago:20261125T100000
DTEND;TZID=America/Chicago:20261125T110000
DTSTAMP:20260419T223800
CREATED:20260330T194229Z
LAST-MODIFIED:20260330T194229Z
UID:969-1795600800-1795604400@lakeparkfriends.org
SUMMARY:Wednesday Walkers
DESCRIPTION:Lake Park is a gorgeous setting for a stroll. Come and gather with others for a weekly walk through the park. We’ll meet at the top of the Grand Staircase each Wednesday (Mid May to November) at 10:00 a.m. and then walk for about 30-45 minutes through the park. No need to sign up\, and there is no fee! Walk at your own pace. Bring a friend or neighbor\, make new friends\, and explore the park together! Leashed dogs are welcome\, too.
URL:https://lakeparkfriends.org/event/wednesday-walkers/
LOCATION:Marcia Coles Community Room\, 3133 E Newberry Blvd\, Milwaukee\, WI\, 53211\, United States
CATEGORIES:Wednesday Walkers
END:VEVENT
END:VCALENDAR