BEGIN:VCALENDAR
VERSION:2.0
PRODID:-//Lake Park Friends - ECPv6.15.20//NONSGML v1.0//EN
CALSCALE:GREGORIAN
METHOD:PUBLISH
X-WR-CALNAME:Lake Park Friends
X-ORIGINAL-URL:https://lakeparkfriends.org
X-WR-CALDESC:Events for Lake Park Friends
REFRESH-INTERVAL;VALUE=DURATION:PT1H
X-Robots-Tag:noindex
X-PUBLISHED-TTL:PT1H
BEGIN:VTIMEZONE
TZID:America/Chicago
BEGIN:DAYLIGHT
TZOFFSETFROM:-0600
TZOFFSETTO:-0500
TZNAME:CDT
DTSTART:20300310T080000
END:DAYLIGHT
BEGIN:STANDARD
TZOFFSETFROM:-0500
TZOFFSETTO:-0600
TZNAME:CST
DTSTART:20301103T070000
END:STANDARD
BEGIN:DAYLIGHT
TZOFFSETFROM:-0600
TZOFFSETTO:-0500
TZNAME:CDT
DTSTART:20310309T080000
END:DAYLIGHT
BEGIN:STANDARD
TZOFFSETFROM:-0500
TZOFFSETTO:-0600
TZNAME:CST
DTSTART:20311102T070000
END:STANDARD
BEGIN:DAYLIGHT
TZOFFSETFROM:-0600
TZOFFSETTO:-0500
TZNAME:CDT
DTSTART:20320314T080000
END:DAYLIGHT
BEGIN:STANDARD
TZOFFSETFROM:-0500
TZOFFSETTO:-0600
TZNAME:CST
DTSTART:20321107T070000
END:STANDARD
END:VTIMEZONE
BEGIN:VEVENT
DTSTART;TZID=America/Chicago:20310704T090000
DTEND;TZID=America/Chicago:20310704T220000
DTSTAMP:20260423T065610
CREATED:20260330T193859Z
LAST-MODIFIED:20260330T193859Z
UID:900-1940922000-1940968800@lakeparkfriends.org
SUMMARY:July 4th in Lake Park
DESCRIPTION:For all information regarding July 4th festivities in Lake Park\, visit the City of Milwaukee Fourth of July Commission’s website.
URL:https://lakeparkfriends.org/event/july-4th-in-lake-park-6/
LOCATION:WI
CATEGORIES:Holidays
END:VEVENT
BEGIN:VEVENT
DTSTART;VALUE=DATE:20310722
DTEND;VALUE=DATE:20310723
DTSTAMP:20260423T065610
CREATED:20260330T194029Z
LAST-MODIFIED:20260330T194029Z
UID:930-1942444800-1942531199@lakeparkfriends.org
SUMMARY:National Hammock Day
DESCRIPTION:National Hammock Day is celebrated every year on July 22 to commemorate the universal symbol for relaxation. There are lots of places in Lake Park to set up your hammock for the day!
URL:https://lakeparkfriends.org/event/national-hammock-day-6/
LOCATION:WI
END:VEVENT
END:VCALENDAR